{"text_format":"1","workbook":"xlsx","n_sheets":6,"sheets":["Fördergruppen","Gegenstand","Klasse","Raum","Lehrer","Datum"],"not_rendered":{"charts":0,"images":0,"macros":1,"external_links":0,"defined_names":0,"comments":0,"pivot_tables":0},"unopened":[],"bounds":{"document_bytes":16777216,"sheet_cells":100000,"rows_first":2000,"rows_last":500,"rows_between":2000,"halvings":0,"cell_chars":16384,"cell_head_chars":4096},"cells_cut":0,"cells_raw":0,"read":"whole","date_system":"1900"}

{"sheet":"Fördergruppen","index":0,"n_rows":301,"n_cols":17,"rows_kept":301,"cut":false,"hidden":false,"merged":[]}
[]
[null,"Typ","Lehrer","Lehrer_ID","Gegenstand","GA_FA_ID","GA_ID","FA_ID","Gruppenbezeichnung kurz","Gruppenbezeichnung lang","Von","Bis","Anzahl Stunden","Klassen","Raum","RA_ID","Termine anlegen"]
[null,"Gruppe",null,{"$f":"IFERROR(VLOOKUP(C3,Lehrer!$C$1:$N$100,9,TRUE),\"\")","v":""},null,{"$f":"IFERROR(VLOOKUP(E3,Gegenstand!$B$1:$E$400,4,TRUE),\"\")","v":""},{"$f":"IFERROR(LEFT(F3,FIND(\"#\",F3)-1),\"\")","v":""},{"$f":"IFERROR(RIGHT(F3,LEN(F3)-FIND(\"#\",F3)),\"\")","v":""},null,null,"2017-09-11","2018-07-06",null,null,null,{"$f":"IFERROR(VLOOKUP(O3,Raum!$B$1:$E$400,4,TRUE),\"\")","v":""},"Ja"]
[null,"Gruppe",null,{"$f":"IFERROR(VLOOKUP(C4,Lehrer!$C$1:$N$100,9,TRUE),\"\")","v":""},null,{"$f":"IFERROR(VLOOKUP(E4,Gegenstand!$B$1:$E$400,4,TRUE),\"\")","v":""},{"$f":"IFERROR(LEFT(F4,FIND(\"#\",F4)-1),\"\")","v":""},{"$f":"IFERROR(RIGHT(F4,LEN(F4)-FIND(\"#\",F4)),\"\")","v":""},null,null,null,null,null,null,null,{"$f":"IFERROR(VLOOKUP(O4,Raum!$B$1:$E$400,4,TRUE),\"\")","v":""}]
[null,"Gruppe",null,{"$f":"IFERROR(VLOOKUP(C5,Lehrer!$C$1:$N$100,9,TRUE),\"\")","v":""},null,{"$f":"IFERROR(VLOOKUP(E5,Gegenstand!$B$1:$E$400,4,TRUE),\"\")","v":""},"","",null,null,null,null,null,null,null,{"$f":"IFERROR(VLOOKUP(O5,Raum!$B$1:$E$400,4,TRUE),\"\")","v":""}]
[null,"Gruppe",null,{"$f":"IFERROR(VLOOKUP(C6,Lehrer!$C$1:$N$100,9,TRUE),\"\")","v":""},null,{"$f":"IFERROR(VLOOKUP(E6,Gegenstand!$B$1:$E$400,4,TRUE),\"\")","v":""},"","",null,null,null,null,null,null,null,{"$f":"IFERROR(VLOOKUP(O6,Raum!$B$1:$E$400,4,TRUE),\"\")","v":""}]
[null,"Gruppe",null,{"$f":"IFERROR(VLOOKUP(C7,Lehrer!$C$1:$N$100,9,TRUE),\"\")","v":""},null,{"$f":"IFERROR(VLOOKUP(E7,Gegenstand!$B$1:$E$400,4,TRUE),\"\")","v":""},"","",null,null,null,null,null,null,null,{"$f":"IFERROR(VLOOKUP(O7,Raum!$B$1:$E$400,4,TRUE),\"\")","v":""}]
[null,"Gruppe",null,{"$f":"IFERROR(VLOOKUP(C8,Lehrer!$C$1:$N$100,9,TRUE),\"\")","v":""},null,{"$f":"IFERROR(VLOOKUP(E8,Gegenstand!$B$1:$E$400,4,TRUE),\"\")","v":""},"","",null,null,null,null,null,null,null,{"$f":"IFERROR(VLOOKUP(O8,Raum!$B$1:$E$400,4,TRUE),\"\")","v":""}]
[null,"Gruppe",null,{"$f":"IFERROR(VLOOKUP(C9,Lehrer!$C$1:$N$100,9,TRUE),\"\")","v":""},null,{"$f":"IFERROR(VLOOKUP(E9,Gegenstand!$B$1:$E$400,4,TRUE),\"\")","v":""},"","",null,null,null,null,null,null,null,{"$f":"IFERROR(VLOOKUP(O9,Raum!$B$1:$E$400,4,TRUE),\"\")","v":""}]
[null,"Gruppe",null,{"$f":"IFERROR(VLOOKUP(C10,Lehrer!$C$1:$N$100,9,TRUE),\"\")","v":""},null,{"$f":"IFERROR(VLOOKUP(E10,Gegenstand!$B$1:$E$400,4,TRUE),\"\")","v":""},"","",null,null,null,null,null,null,null,{"$f":"IFERROR(VLOOKUP(O10,Raum!$B$1:$E$400,4,TRUE),\"\")","v":""}]
[null,"Gruppe",null,{"$f":"IFERROR(VLOOKUP(C11,Lehrer!$C$1:$N$100,9,TRUE),\"\")","v":""},null,{"$f":"IFERROR(VLOOKUP(E11,Gegenstand!$B$1:$E$400,4,TRUE),\"\")","v":""},"","",null,null,null,null,null,null,null,{"$f":"IFERROR(VLOOKUP(O11,Raum!$B$1:$E$400,4,TRUE),\"\")","v":""}]
[null,"Gruppe",null,{"$f":"IFERROR(VLOOKUP(C12,Lehrer!$C$1:$N$100,9,TRUE),\"\")","v":""},null,{"$f":"IFERROR(VLOOKUP(E12,Gegenstand!$B$1:$E$400,4,TRUE),\"\")","v":""},"","",null,null,null,null,null,null,null,{"$f":"IFERROR(VLOOKUP(O12,Raum!$B$1:$E$400,4,TRUE),\"\")","v":""}]
[null,"Gruppe",null,{"$f":"IFERROR(VLOOKUP(C13,Lehrer!$C$1:$N$100,9,TRUE),\"\")","v":""},null,{"$f":"IFERROR(VLOOKUP(E13,Gegenstand!$B$1:$E$400,4,TRUE),\"\")","v":""},"","",null,null,null,null,null,null,null,{"$f":"IFERROR(VLOOKUP(O13,Raum!$B$1:$E$400,4,TRUE),\"\")","v":""}]
[null,"Gruppe",null,{"$f":"IFERROR(VLOOKUP(C14,Lehrer!$C$1:$N$100,9,TRUE),\"\")","v":""},null,{"$f":"IFERROR(VLOOKUP(E14,Gegenstand!$B$1:$E$400,4,TRUE),\"\")","v":""},"","",null,null,null,null,null,null,null,{"$f":"IFERROR(VLOOKUP(O14,Raum!$B$1:$E$400,4,TRUE),\"\")","v":""}]
[null,"Gruppe",null,{"$f":"IFERROR(VLOOKUP(C15,Lehrer!$C$1:$N$100,9,TRUE),\"\")","v":""},null,{"$f":"IFERROR(VLOOKUP(E15,Gegenstand!$B$1:$E$400,4,TRUE),\"\")","v":""},"","",null,null,null,null,null,null,null,{"$f":"IFERROR(VLOOKUP(O15,Raum!$B$1:$E$400,4,TRUE),\"\")","v":""}]
[null,"Gruppe",null,{"$f":"IFERROR(VLOOKUP(C16,Lehrer!$C$1:$N$100,9,TRUE),\"\")","v":""},null,{"$f":"IFERROR(VLOOKUP(E16,Gegenstand!$B$1:$E$400,4,TRUE),\"\")","v":""},"","",null,null,null,null,null,null,null,{"$f":"IFERROR(VLOOKUP(O16,Raum!$B$1:$E$400,4,TRUE),\"\")","v":""}]
[null,"Gruppe",null,{"$f":"IFERROR(VLOOKUP(C17,Lehrer!$C$1:$N$100,9,TRUE),\"\")","v":""},null,{"$f":"IFERROR(VLOOKUP(E17,Gegenstand!$B$1:$E$400,4,TRUE),\"\")","v":""},"","",null,null,null,null,null,null,null,{"$f":"IFERROR(VLOOKUP(O17,Raum!$B$1:$E$400,4,TRUE),\"\")","v":""}]
[null,"Gruppe",null,{"$f":"IFERROR(VLOOKUP(C18,Lehrer!$C$1:$N$100,9,TRUE),\"\")","v":""},null,{"$f":"IFERROR(VLOOKUP(E18,Gegenstand!$B$1:$E$400,4,TRUE),\"\")","v":""},"","",null,null,null,null,null,null,null,{"$f":"IFERROR(VLOOKUP(O18,Raum!$B$1:$E$400,4,TRUE),\"\")","v":""}]
[null,"Gruppe",null,{"$f":"IFERROR(VLOOKUP(C19,Lehrer!$C$1:$N$100,9,TRUE),\"\")","v":""},null,{"$f":"IFERROR(VLOOKUP(E19,Gegenstand!$B$1:$E$400,4,TRUE),\"\")","v":""},"","",null,null,null,null,null,null,null,{"$f":"IFERROR(VLOOKUP(O19,Raum!$B$1:$E$400,4,TRUE),\"\")","v":""}]
[null,"Gruppe",null,{"$f":"IFERROR(VLOOKUP(C20,Lehrer!$C$1:$N$100,9,TRUE),\"\")","v":""},null,{"$f":"IFERROR(VLOOKUP(E20,Gegenstand!$B$1:$E$400,4,TRUE),\"\")","v":""},"","",null,null,null,null,null,null,null,{"$f":"IFERROR(VLOOKUP(O20,Raum!$B$1:$E$400,4,TRUE),\"\")","v":""}]
[null,"Gruppe",null,{"$f":"IFERROR(VLOOKUP(C21,Lehrer!$C$1:$N$100,9,TRUE),\"\")","v":""},null,{"$f":"IFERROR(VLOOKUP(E21,Gegenstand!$B$1:$E$400,4,TRUE),\"\")","v":""},"","",null,null,null,null,null,null,null,{"$f":"IFERROR(VLOOKUP(O21,Raum!$B$1:$E$400,4,TRUE),\"\")","v":""}]
[null,"Gruppe",null,{"$f":"IFERROR(VLOOKUP(C22,Lehrer!$C$1:$N$100,9,TRUE),\"\")","v":""},null,{"$f":"IFERROR(VLOOKUP(E22,Gegenstand!$B$1:$E$400,4,TRUE),\"\")","v":""},"","",null,null,null,null,null,null,null,{"$f":"IFERROR(VLOOKUP(O22,Raum!$B$1:$E$400,4,TRUE),\"\")","v":""}]
[null,"Gruppe",null,{"$f":"IFERROR(VLOOKUP(C23,Lehrer!$C$1:$N$100,9,TRUE),\"\")","v":""},null,{"$f":"IFERROR(VLOOKUP(E23,Gegenstand!$B$1:$E$400,4,TRUE),\"\")","v":""},"","",null,null,null,null,null,null,null,{"$f":"IFERROR(VLOOKUP(O23,Raum!$B$1:$E$400,4,TRUE),\"\")","v":""}]
[null,"Gruppe",null,{"$f":"IFERROR(VLOOKUP(C24,Lehrer!$C$1:$N$100,9,TRUE),\"\")","v":""},null,{"$f":"IFERROR(VLOOKUP(E24,Gegenstand!$B$1:$E$400,4,TRUE),\"\")","v":""},"","",null,null,null,null,null,null,null,{"$f":"IFERROR(VLOOKUP(O24,Raum!$B$1:$E$400,4,TRUE),\"\")","v":""}]
[null,"Gruppe",null,{"$f":"IFERROR(VLOOKUP(C25,Lehrer!$C$1:$N$100,9,TRUE),\"\")","v":""},null,{"$f":"IFERROR(VLOOKUP(E25,Gegenstand!$B$1:$E$400,4,TRUE),\"\")","v":""},"","",null,null,null,null,null,null,null,{"$f":"IFERROR(VLOOKUP(O25,Raum!$B$1:$E$400,4,TRUE),\"\")","v":""}]
[null,"Gruppe",null,{"$f":"IFERROR(VLOOKUP(C26,Lehrer!$C$1:$N$100,9,TRUE),\"\")","v":""},null,{"$f":"IFERROR(VLOOKUP(E26,Gegenstand!$B$1:$E$400,4,TRUE),\"\")","v":""},"","",null,null,null,null,null,null,null,{"$f":"IFERROR(VLOOKUP(O26,Raum!$B$1:$E$400,4,TRUE),\"\")","v":""}]
[null,"Gruppe",null,{"$f":"IFERROR(VLOOKUP(C27,Lehrer!$C$1:$N$100,9,TRUE),\"\")","v":""},null,{"$f":"IFERROR(VLOOKUP(E27,Gegenstand!$B$1:$E$400,4,TRUE),\"\")","v":""},"","",null,null,null,null,null,null,null,{"$f":"IFERROR(VLOOKUP(O27,Raum!$B$1:$E$400,4,TRUE),\"\")","v":""}]
[null,"Gruppe",null,{"$f":"IFERROR(VLOOKUP(C28,Lehrer!$C$1:$N$100,9,TRUE),\"\")","v":""},null,{"$f":"IFERROR(VLOOKUP(E28,Gegenstand!$B$1:$E$400,4,TRUE),\"\")","v":""},"","",null,null,null,null,null,null,null,{"$f":"IFERROR(VLOOKUP(O28,Raum!$B$1:$E$400,4,TRUE),\"\")","v":""}]
[null,"Gruppe",null,{"$f":"IFERROR(VLOOKUP(C29,Lehrer!$C$1:$N$100,9,TRUE),\"\")","v":""},null,{"$f":"IFERROR(VLOOKUP(E29,Gegenstand!$B$1:$E$400,4,TRUE),\"\")","v":""},"","",null,null,null,null,null,null,null,{"$f":"IFERROR(VLOOKUP(O29,Raum!$B$1:$E$400,4,TRUE),\"\")","v":""}]
[null,"Gruppe",null,{"$f":"IFERROR(VLOOKUP(C30,Lehrer!$C$1:$N$100,9,TRUE),\"\")","v":""},null,{"$f":"IFERROR(VLOOKUP(E30,Gegenstand!$B$1:$E$400,4,TRUE),\"\")","v":""},"","",null,null,null,null,null,null,null,{"$f":"IFERROR(VLOOKUP(O30,Raum!$B$1:$E$400,4,TRUE),\"\")","v":""}]
[null,"Gruppe",null,{"$f":"IFERROR(VLOOKUP(C31,Lehrer!$C$1:$N$100,9,TRUE),\"\")","v":""},null,{"$f":"IFERROR(VLOOKUP(E31,Gegenstand!$B$1:$E$400,4,TRUE),\"\")","v":""},"","",null,null,null,null,null,null,null,{"$f":"IFERROR(VLOOKUP(O31,Raum!$B$1:$E$400,4,TRUE),\"\")","v":""}]
[null,"Gruppe",null,{"$f":"IFERROR(VLOOKUP(C32,Lehrer!$C$1:$N$100,9,TRUE),\"\")","v":""},null,{"$f":"IFERROR(VLOOKUP(E32,Gegenstand!$B$1:$E$400,4,TRUE),\"\")","v":""},"","",null,null,null,null,null,null,null,{"$f":"IFERROR(VLOOKUP(O32,Raum!$B$1:$E$400,4,TRUE),\"\")","v":""}]
[null,"Gruppe",null,{"$f":"IFERROR(VLOOKUP(C33,Lehrer!$C$1:$N$100,9,TRUE),\"\")","v":""},null,{"$f":"IFERROR(VLOOKUP(E33,Gegenstand!$B$1:$E$400,4,TRUE),\"\")","v":""},"","",null,null,null,null,null,null,null,{"$f":"IFERROR(VLOOKUP(O33,Raum!$B$1:$E$400,4,TRUE),\"\")","v":""}]
[null,"Gruppe",null,{"$f":"IFERROR(VLOOKUP(C34,Lehrer!$C$1:$N$100,9,TRUE),\"\")","v":""},null,{"$f":"IFERROR(VLOOKUP(E34,Gegenstand!$B$1:$E$400,4,TRUE),\"\")","v":""},"","",null,null,null,null,null,null,null,{"$f":"IFERROR(VLOOKUP(O34,Raum!$B$1:$E$400,4,TRUE),\"\")","v":""}]
[null,"Gruppe",null,{"$f":"IFERROR(VLOOKUP(C35,Lehrer!$C$1:$N$100,9,TRUE),\"\")","v":""},null,{"$f":"IFERROR(VLOOKUP(E35,Gegenstand!$B$1:$E$400,4,TRUE),\"\")","v":""},"","",null,null,null,null,null,null,null,{"$f":"IFERROR(VLOOKUP(O35,Raum!$B$1:$E$400,4,TRUE),\"\")","v":""}]
[null,"Gruppe",null,{"$f":"IFERROR(VLOOKUP(C36,Lehrer!$C$1:$N$100,9,TRUE),\"\")","v":""},null,{"$f":"IFERROR(VLOOKUP(E36,Gegenstand!$B$1:$E$400,4,TRUE),\"\")","v":""},"","",null,null,null,null,null,null,null,{"$f":"IFERROR(VLOOKUP(O36,Raum!$B$1:$E$400,4,TRUE),\"\")","v":""}]
[null,"Gruppe",null,{"$f":"IFERROR(VLOOKUP(C37,Lehrer!$C$1:$N$100,9,TRUE),\"\")","v":""},null,{"$f":"IFERROR(VLOOKUP(E37,Gegenstand!$B$1:$E$400,4,TRUE),\"\")","v":""},"","",null,null,null,null,null,null,null,{"$f":"IFERROR(VLOOKUP(O37,Raum!$B$1:$E$400,4,TRUE),\"\")","v":""}]
[null,"Gruppe",null,{"$f":"IFERROR(VLOOKUP(C38,Lehrer!$C$1:$N$100,9,TRUE),\"\")","v":""},null,{"$f":"IFERROR(VLOOKUP(E38,Gegenstand!$B$1:$E$400,4,TRUE),\"\")","v":""},"","",null,null,null,null,null,null,null,{"$f":"IFERROR(VLOOKUP(O38,Raum!$B$1:$E$400,4,TRUE),\"\")","v":""}]
[null,"Gruppe",null,{"$f":"IFERROR(VLOOKUP(C39,Lehrer!$C$1:$N$100,9,TRUE),\"\")","v":""},null,{"$f":"IFERROR(VLOOKUP(E39,Gegenstand!$B$1:$E$400,4,TRUE),\"\")","v":""},"","",null,null,null,null,null,null,null,{"$f":"IFERROR(VLOOKUP(O39,Raum!$B$1:$E$400,4,TRUE),\"\")","v":""}]
[null,"Gruppe",null,{"$f":"IFERROR(VLOOKUP(C40,Lehrer!$C$1:$N$100,9,TRUE),\"\")","v":""},null,{"$f":"IFERROR(VLOOKUP(E40,Gegenstand!$B$1:$E$400,4,TRUE),\"\")","v":""},"","",null,null,null,null,null,null,null,{"$f":"IFERROR(VLOOKUP(O40,Raum!$B$1:$E$400,4,TRUE),\"\")","v":""}]
[null,"Gruppe",null,{"$f":"IFERROR(VLOOKUP(C41,Lehrer!$C$1:$N$100,9,TRUE),\"\")","v":""},null,{"$f":"IFERROR(VLOOKUP(E41,Gegenstand!$B$1:$E$400,4,TRUE),\"\")","v":""},"","",null,null,null,null,null,null,null,{"$f":"IFERROR(VLOOKUP(O41,Raum!$B$1:$E$400,4,TRUE),\"\")","v":""}]
[null,"Gruppe",null,{"$f":"IFERROR(VLOOKUP(C42,Lehrer!$C$1:$N$100,9,TRUE),\"\")","v":""},null,{"$f":"IFERROR(VLOOKUP(E42,Gegenstand!$B$1:$E$400,4,TRUE),\"\")","v":""},"","",null,null,null,null,null,null,null,{"$f":"IFERROR(VLOOKUP(O42,Raum!$B$1:$E$400,4,TRUE),\"\")","v":""}]
[null,"Gruppe",null,{"$f":"IFERROR(VLOOKUP(C43,Lehrer!$C$1:$N$100,9,TRUE),\"\")","v":""},null,{"$f":"IFERROR(VLOOKUP(E43,Gegenstand!$B$1:$E$400,4,TRUE),\"\")","v":""},"","",null,null,null,null,null,null,null,{"$f":"IFERROR(VLOOKUP(O43,Raum!$B$1:$E$400,4,TRUE),\"\")","v":""}]
[null,"Gruppe",null,{"$f":"IFERROR(VLOOKUP(C44,Lehrer!$C$1:$N$100,9,TRUE),\"\")","v":""},null,{"$f":"IFERROR(VLOOKUP(E44,Gegenstand!$B$1:$E$400,4,TRUE),\"\")","v":""},"","",null,null,null,null,null,null,null,{"$f":"IFERROR(VLOOKUP(O44,Raum!$B$1:$E$400,4,TRUE),\"\")","v":""}]
[null,"Gruppe",null,{"$f":"IFERROR(VLOOKUP(C45,Lehrer!$C$1:$N$100,9,TRUE),\"\")","v":""},null,{"$f":"IFERROR(VLOOKUP(E45,Gegenstand!$B$1:$E$400,4,TRUE),\"\")","v":""},"","",null,null,null,null,null,null,null,{"$f":"IFERROR(VLOOKUP(O45,Raum!$B$1:$E$400,4,TRUE),\"\")","v":""}]
[null,"Gruppe",null,{"$f":"IFERROR(VLOOKUP(C46,Lehrer!$C$1:$N$100,9,TRUE),\"\")","v":""},null,{"$f":"IFERROR(VLOOKUP(E46,Gegenstand!$B$1:$E$400,4,TRUE),\"\")","v":""},"","",null,null,null,null,null,null,null,{"$f":"IFERROR(VLOOKUP(O46,Raum!$B$1:$E$400,4,TRUE),\"\")","v":""}]
[null,"Gruppe",null,{"$f":"IFERROR(VLOOKUP(C47,Lehrer!$C$1:$N$100,9,TRUE),\"\")","v":""},null,{"$f":"IFERROR(VLOOKUP(E47,Gegenstand!$B$1:$E$400,4,TRUE),\"\")","v":""},"","",null,null,null,null,null,null,null,{"$f":"IFERROR(VLOOKUP(O47,Raum!$B$1:$E$400,4,TRUE),\"\")","v":""}]
[null,"Gruppe",null,{"$f":"IFERROR(VLOOKUP(C48,Lehrer!$C$1:$N$100,9,TRUE),\"\")","v":""},null,{"$f":"IFERROR(VLOOKUP(E48,Gegenstand!$B$1:$E$400,4,TRUE),\"\")","v":""},"","",null,null,null,null,null,null,null,{"$f":"IFERROR(VLOOKUP(O48,Raum!$B$1:$E$400,4,TRUE),\"\")","v":""}]
[null,"Gruppe",null,{"$f":"IFERROR(VLOOKUP(C49,Lehrer!$C$1:$N$100,9,TRUE),\"\")","v":""},null,{"$f":"IFERROR(VLOOKUP(E49,Gegenstand!$B$1:$E$400,4,TRUE),\"\")","v":""},"","",null,null,null,null,null,null,null,{"$f":"IFERROR(VLOOKUP(O49,Raum!$B$1:$E$400,4,TRUE),\"\")","v":""}]
[null,"Gruppe",null,{"$f":"IFERROR(VLOOKUP(C50,Lehrer!$C$1:$N$100,9,TRUE),\"\")","v":""},null,{"$f":"IFERROR(VLOOKUP(E50,Gegenstand!$B$1:$E$400,4,TRUE),\"\")","v":""},"","",null,null,null,null,null,null,null,{"$f":"IFERROR(VLOOKUP(O50,Raum!$B$1:$E$400,4,TRUE),\"\")","v":""}]
[null,"Gruppe",null,{"$f":"IFERROR(VLOOKUP(C51,Lehrer!$C$1:$N$100,9,TRUE),\"\")","v":""},null,{"$f":"IFERROR(VLOOKUP(E51,Gegenstand!$B$1:$E$400,4,TRUE),\"\")","v":""},"","",null,null,null,null,null,null,null,{"$f":"IFERROR(VLOOKUP(O51,Raum!$B$1:$E$400,4,TRUE),\"\")","v":""}]
[null,"Gruppe",null,{"$f":"IFERROR(VLOOKUP(C52,Lehrer!$C$1:$N$100,9,TRUE),\"\")","v":""},null,{"$f":"IFERROR(VLOOKUP(E52,Gegenstand!$B$1:$E$400,4,TRUE),\"\")","v":""},"","",null,null,null,null,null,null,null,{"$f":"IFERROR(VLOOKUP(O52,Raum!$B$1:$E$400,4,TRUE),\"\")","v":""}]
[null,"Gruppe",null,{"$f":"IFERROR(VLOOKUP(C53,Lehrer!$C$1:$N$100,9,TRUE),\"\")","v":""},null,{"$f":"IFERROR(VLOOKUP(E53,Gegenstand!$B$1:$E$400,4,TRUE),\"\")","v":""},"","",null,null,null,null,null,null,null,{"$f":"IFERROR(VLOOKUP(O53,Raum!$B$1:$E$400,4,TRUE),\"\")","v":""}]
[null,"Gruppe",null,{"$f":"IFERROR(VLOOKUP(C54,Lehrer!$C$1:$N$100,9,TRUE),\"\")","v":""},null,{"$f":"IFERROR(VLOOKUP(E54,Gegenstand!$B$1:$E$400,4,TRUE),\"\")","v":""},"","",null,null,null,null,null,null,null,{"$f":"IFERROR(VLOOKUP(O54,Raum!$B$1:$E$400,4,TRUE),\"\")","v":""}]
[null,"Gruppe",null,{"$f":"IFERROR(VLOOKUP(C55,Lehrer!$C$1:$N$100,9,TRUE),\"\")","v":""},null,{"$f":"IFERROR(VLOOKUP(E55,Gegenstand!$B$1:$E$400,4,TRUE),\"\")","v":""},"","",null,null,null,null,null,null,null,{"$f":"IFERROR(VLOOKUP(O55,Raum!$B$1:$E$400,4,TRUE),\"\")","v":""}]
[null,"Gruppe",null,{"$f":"IFERROR(VLOOKUP(C56,Lehrer!$C$1:$N$100,9,TRUE),\"\")","v":""},null,{"$f":"IFERROR(VLOOKUP(E56,Gegenstand!$B$1:$E$400,4,TRUE),\"\")","v":""},"","",null,null,null,null,null,null,null,{"$f":"IFERROR(VLOOKUP(O56,Raum!$B$1:$E$400,4,TRUE),\"\")","v":""}]
[null,"Gruppe",null,{"$f":"IFERROR(VLOOKUP(C57,Lehrer!$C$1:$N$100,9,TRUE),\"\")","v":""},null,{"$f":"IFERROR(VLOOKUP(E57,Gegenstand!$B$1:$E$400,4,TRUE),\"\")","v":""},"","",null,null,null,null,null,null,null,{"$f":"IFERROR(VLOOKUP(O57,Raum!$B$1:$E$400,4,TRUE),\"\")","v":""}]
[null,"Gruppe",null,{"$f":"IFERROR(VLOOKUP(C58,Lehrer!$C$1:$N$100,9,TRUE),\"\")","v":""},null,{"$f":"IFERROR(VLOOKUP(E58,Gegenstand!$B$1:$E$400,4,TRUE),\"\")","v":""},"","",null,null,null,null,null,null,null,{"$f":"IFERROR(VLOOKUP(O58,Raum!$B$1:$E$400,4,TRUE),\"\")","v":""}]
[null,"Gruppe",null,{"$f":"IFERROR(VLOOKUP(C59,Lehrer!$C$1:$N$100,9,TRUE),\"\")","v":""},null,{"$f":"IFERROR(VLOOKUP(E59,Gegenstand!$B$1:$E$400,4,TRUE),\"\")","v":""},"","",null,null,null,null,null,null,null,{"$f":"IFERROR(VLOOKUP(O59,Raum!$B$1:$E$400,4,TRUE),\"\")","v":""}]
[null,"Gruppe",null,{"$f":"IFERROR(VLOOKUP(C60,Lehrer!$C$1:$N$100,9,TRUE),\"\")","v":""},null,{"$f":"IFERROR(VLOOKUP(E60,Gegenstand!$B$1:$E$400,4,TRUE),\"\")","v":""},"","",null,null,null,null,null,null,null,{"$f":"IFERROR(VLOOKUP(O60,Raum!$B$1:$E$400,4,TRUE),\"\")","v":""}]
[null,"Gruppe",null,{"$f":"IFERROR(VLOOKUP(C61,Lehrer!$C$1:$N$100,9,TRUE),\"\")","v":""},null,{"$f":"IFERROR(VLOOKUP(E61,Gegenstand!$B$1:$E$400,4,TRUE),\"\")","v":""},"","",null,null,null,null,null,null,null,{"$f":"IFERROR(VLOOKUP(O61,Raum!$B$1:$E$400,4,TRUE),\"\")","v":""}]
[null,"Gruppe",null,{"$f":"IFERROR(VLOOKUP(C62,Lehrer!$C$1:$N$100,9,TRUE),\"\")","v":""},null,{"$f":"IFERROR(VLOOKUP(E62,Gegenstand!$B$1:$E$400,4,TRUE),\"\")","v":""},"","",null,null,null,null,null,null,null,{"$f":"IFERROR(VLOOKUP(O62,Raum!$B$1:$E$400,4,TRUE),\"\")","v":""}]
[null,"Gruppe",null,{"$f":"IFERROR(VLOOKUP(C63,Lehrer!$C$1:$N$100,9,TRUE),\"\")","v":""},null,{"$f":"IFERROR(VLOOKUP(E63,Gegenstand!$B$1:$E$400,4,TRUE),\"\")","v":""},"","",null,null,null,null,null,null,null,{"$f":"IFERROR(VLOOKUP(O63,Raum!$B$1:$E$400,4,TRUE),\"\")","v":""}]
[null,"Gruppe",null,{"$f":"IFERROR(VLOOKUP(C64,Lehrer!$C$1:$N$100,9,TRUE),\"\")","v":""},null,{"$f":"IFERROR(VLOOKUP(E64,Gegenstand!$B$1:$E$400,4,TRUE),\"\")","v":""},"","",null,null,null,null,null,null,null,{"$f":"IFERROR(VLOOKUP(O64,Raum!$B$1:$E$400,4,TRUE),\"\")","v":""}]
[null,"Gruppe",null,{"$f":"IFERROR(VLOOKUP(C65,Lehrer!$C$1:$N$100,9,TRUE),\"\")","v":""},null,{"$f":"IFERROR(VLOOKUP(E65,Gegenstand!$B$1:$E$400,4,TRUE),\"\")","v":""},"","",null,null,null,null,null,null,null,{"$f":"IFERROR(VLOOKUP(O65,Raum!$B$1:$E$400,4,TRUE),\"\")","v":""}]
[null,"Gruppe",null,{"$f":"IFERROR(VLOOKUP(C66,Lehrer!$C$1:$N$100,9,TRUE),\"\")","v":""},null,{"$f":"IFERROR(VLOOKUP(E66,Gegenstand!$B$1:$E$400,4,TRUE),\"\")","v":""},"","",null,null,null,null,null,null,null,{"$f":"IFERROR(VLOOKUP(O66,Raum!$B$1:$E$400,4,TRUE),\"\")","v":""}]
[null,"Gruppe",null,{"$f":"IFERROR(VLOOKUP(C67,Lehrer!$C$1:$N$100,9,TRUE),\"\")","v":""},null,{"$f":"IFERROR(VLOOKUP(E67,Gegenstand!$B$1:$E$400,4,TRUE),\"\")","v":""},"","",null,null,null,null,null,null,null,{"$f":"IFERROR(VLOOKUP(O67,Raum!$B$1:$E$400,4,TRUE),\"\")","v":""}]
[null,"Gruppe",null,{"$f":"IFERROR(VLOOKUP(C68,Lehrer!$C$1:$N$100,9,TRUE),\"\")","v":""},null,{"$f":"IFERROR(VLOOKUP(E68,Gegenstand!$B$1:$E$400,4,TRUE),\"\")","v":""},{"$f":"IFERROR(LEFT(F68,FIND(\"#\",F68)-1),\"\")","v":""},{"$f":"IFERROR(RIGHT(F68,LEN(F68)-FIND(\"#\",F68)),\"\")","v":""},null,null,null,null,null,null,null,{"$f":"IFERROR(VLOOKUP(O68,Raum!$B$1:$E$400,4,TRUE),\"\")","v":""}]
[null,"Gruppe",null,{"$f":"IFERROR(VLOOKUP(C69,Lehrer!$C$1:$N$100,9,TRUE),\"\")","v":""},null,{"$f":"IFERROR(VLOOKUP(E69,Gegenstand!$B$1:$E$400,4,TRUE),\"\")","v":""},"","",null,null,null,null,null,null,null,{"$f":"IFERROR(VLOOKUP(O69,Raum!$B$1:$E$400,4,TRUE),\"\")","v":""}]
[null,"Gruppe",null,{"$f":"IFERROR(VLOOKUP(C70,Lehrer!$C$1:$N$100,9,TRUE),\"\")","v":""},null,{"$f":"IFERROR(VLOOKUP(E70,Gegenstand!$B$1:$E$400,4,TRUE),\"\")","v":""},"","",null,null,null,null,null,null,null,{"$f":"IFERROR(VLOOKUP(O70,Raum!$B$1:$E$400,4,TRUE),\"\")","v":""}]
[null,"Gruppe",null,{"$f":"IFERROR(VLOOKUP(C71,Lehrer!$C$1:$N$100,9,TRUE),\"\")","v":""},null,{"$f":"IFERROR(VLOOKUP(E71,Gegenstand!$B$1:$E$400,4,TRUE),\"\")","v":""},"","",null,null,null,null,null,null,null,{"$f":"IFERROR(VLOOKUP(O71,Raum!$B$1:$E$400,4,TRUE),\"\")","v":""}]
[null,"Gruppe",null,{"$f":"IFERROR(VLOOKUP(C72,Lehrer!$C$1:$N$100,9,TRUE),\"\")","v":""},null,{"$f":"IFERROR(VLOOKUP(E72,Gegenstand!$B$1:$E$400,4,TRUE),\"\")","v":""},"","",null,null,null,null,null,null,null,{"$f":"IFERROR(VLOOKUP(O72,Raum!$B$1:$E$400,4,TRUE),\"\")","v":""}]
[null,"Gruppe",null,{"$f":"IFERROR(VLOOKUP(C73,Lehrer!$C$1:$N$100,9,TRUE),\"\")","v":""},null,{"$f":"IFERROR(VLOOKUP(E73,Gegenstand!$B$1:$E$400,4,TRUE),\"\")","v":""},"","",null,null,null,null,null,null,null,{"$f":"IFERROR(VLOOKUP(O73,Raum!$B$1:$E$400,4,TRUE),\"\")","v":""}]
[null,"Gruppe",null,{"$f":"IFERROR(VLOOKUP(C74,Lehrer!$C$1:$N$100,9,TRUE),\"\")","v":""},null,{"$f":"IFERROR(VLOOKUP(E74,Gegenstand!$B$1:$E$400,4,TRUE),\"\")","v":""},"","",null,null,null,null,null,null,null,{"$f":"IFERROR(VLOOKUP(O74,Raum!$B$1:$E$400,4,TRUE),\"\")","v":""}]
[null,"Gruppe",null,{"$f":"IFERROR(VLOOKUP(C75,Lehrer!$C$1:$N$100,9,TRUE),\"\")","v":""},null,{"$f":"IFERROR(VLOOKUP(E75,Gegenstand!$B$1:$E$400,4,TRUE),\"\")","v":""},"","",null,null,null,null,null,null,null,{"$f":"IFERROR(VLOOKUP(O75,Raum!$B$1:$E$400,4,TRUE),\"\")","v":""}]
[null,"Gruppe",null,{"$f":"IFERROR(VLOOKUP(C76,Lehrer!$C$1:$N$100,9,TRUE),\"\")","v":""},null,{"$f":"IFERROR(VLOOKUP(E76,Gegenstand!$B$1:$E$400,4,TRUE),\"\")","v":""},"","",null,null,null,null,null,null,null,{"$f":"IFERROR(VLOOKUP(O76,Raum!$B$1:$E$400,4,TRUE),\"\")","v":""}]
[null,"Gruppe",null,{"$f":"IFERROR(VLOOKUP(C77,Lehrer!$C$1:$N$100,9,TRUE),\"\")","v":""},null,{"$f":"IFERROR(VLOOKUP(E77,Gegenstand!$B$1:$E$400,4,TRUE),\"\")","v":""},"","",null,null,null,null,null,null,null,{"$f":"IFERROR(VLOOKUP(O77,Raum!$B$1:$E$400,4,TRUE),\"\")","v":""}]
[null,"Gruppe",null,{"$f":"IFERROR(VLOOKUP(C78,Lehrer!$C$1:$N$100,9,TRUE),\"\")","v":""},null,{"$f":"IFERROR(VLOOKUP(E78,Gegenstand!$B$1:$E$400,4,TRUE),\"\")","v":""},"","",null,null,null,null,null,null,null,{"$f":"IFERROR(VLOOKUP(O78,Raum!$B$1:$E$400,4,TRUE),\"\")","v":""}]
[null,"Gruppe",null,{"$f":"IFERROR(VLOOKUP(C79,Lehrer!$C$1:$N$100,9,TRUE),\"\")","v":""},null,{"$f":"IFERROR(VLOOKUP(E79,Gegenstand!$B$1:$E$400,4,TRUE),\"\")","v":""},"","",null,null,null,null,null,null,null,{"$f":"IFERROR(VLOOKUP(O79,Raum!$B$1:$E$400,4,TRUE),\"\")","v":""}]
[null,"Gruppe",null,{"$f":"IFERROR(VLOOKUP(C80,Lehrer!$C$1:$N$100,9,TRUE),\"\")","v":""},null,{"$f":"IFERROR(VLOOKUP(E80,Gegenstand!$B$1:$E$400,4,TRUE),\"\")","v":""},"","",null,null,null,null,null,null,null,{"$f":"IFERROR(VLOOKUP(O80,Raum!$B$1:$E$400,4,TRUE),\"\")","v":""}]
[null,"Gruppe",null,{"$f":"IFERROR(VLOOKUP(C81,Lehrer!$C$1:$N$100,9,TRUE),\"\")","v":""},null,{"$f":"IFERROR(VLOOKUP(E81,Gegenstand!$B$1:$E$400,4,TRUE),\"\")","v":""},"","",null,null,null,null,null,null,null,{"$f":"IFERROR(VLOOKUP(O81,Raum!$B$1:$E$400,4,TRUE),\"\")","v":""}]
[null,"Gruppe",null,{"$f":"IFERROR(VLOOKUP(C82,Lehrer!$C$1:$N$100,9,TRUE),\"\")","v":""},null,{"$f":"IFERROR(VLOOKUP(E82,Gegenstand!$B$1:$E$400,4,TRUE),\"\")","v":""},"","",null,null,null,null,null,null,null,{"$f":"IFERROR(VLOOKUP(O82,Raum!$B$1:$E$400,4,TRUE),\"\")","v":""}]
[null,"Gruppe",null,{"$f":"IFERROR(VLOOKUP(C83,Lehrer!$C$1:$N$100,9,TRUE),\"\")","v":""},null,{"$f":"IFERROR(VLOOKUP(E83,Gegenstand!$B$1:$E$400,4,TRUE),\"\")","v":""},"","",null,null,null,null,null,null,null,{"$f":"IFERROR(VLOOKUP(O83,Raum!$B$1:$E$400,4,TRUE),\"\")","v":""}]
[null,"Gruppe",null,{"$f":"IFERROR(VLOOKUP(C84,Lehrer!$C$1:$N$100,9,TRUE),\"\")","v":""},null,{"$f":"IFERROR(VLOOKUP(E84,Gegenstand!$B$1:$E$400,4,TRUE),\"\")","v":""},"","",null,null,null,null,null,null,null,{"$f":"IFERROR(VLOOKUP(O84,Raum!$B$1:$E$400,4,TRUE),\"\")","v":""}]
[null,"Gruppe",null,{"$f":"IFERROR(VLOOKUP(C85,Lehrer!$C$1:$N$100,9,TRUE),\"\")","v":""},null,{"$f":"IFERROR(VLOOKUP(E85,Gegenstand!$B$1:$E$400,4,TRUE),\"\")","v":""},"","",null,null,null,null,null,null,null,{"$f":"IFERROR(VLOOKUP(O85,Raum!$B$1:$E$400,4,TRUE),\"\")","v":""}]
[null,"Gruppe",null,{"$f":"IFERROR(VLOOKUP(C86,Lehrer!$C$1:$N$100,9,TRUE),\"\")","v":""},null,{"$f":"IFERROR(VLOOKUP(E86,Gegenstand!$B$1:$E$400,4,TRUE),\"\")","v":""},"","",null,null,null,null,null,null,null,{"$f":"IFERROR(VLOOKUP(O86,Raum!$B$1:$E$400,4,TRUE),\"\")","v":""}]
[null,"Gruppe",null,{"$f":"IFERROR(VLOOKUP(C87,Lehrer!$C$1:$N$100,9,TRUE),\"\")","v":""},null,{"$f":"IFERROR(VLOOKUP(E87,Gegenstand!$B$1:$E$400,4,TRUE),\"\")","v":""},"","",null,null,null,null,null,null,null,{"$f":"IFERROR(VLOOKUP(O87,Raum!$B$1:$E$400,4,TRUE),\"\")","v":""}]
[null,"Gruppe",null,{"$f":"IFERROR(VLOOKUP(C88,Lehrer!$C$1:$N$100,9,TRUE),\"\")","v":""},null,{"$f":"IFERROR(VLOOKUP(E88,Gegenstand!$B$1:$E$400,4,TRUE),\"\")","v":""},"","",null,null,null,null,null,null,null,{"$f":"IFERROR(VLOOKUP(O88,Raum!$B$1:$E$400,4,TRUE),\"\")","v":""}]
[null,"Gruppe",null,{"$f":"IFERROR(VLOOKUP(C89,Lehrer!$C$1:$N$100,9,TRUE),\"\")","v":""},null,{"$f":"IFERROR(VLOOKUP(E89,Gegenstand!$B$1:$E$400,4,TRUE),\"\")","v":""},"","",null,null,null,null,null,null,null,{"$f":"IFERROR(VLOOKUP(O89,Raum!$B$1:$E$400,4,TRUE),\"\")","v":""}]
[null,"Gruppe",null,{"$f":"IFERROR(VLOOKUP(C90,Lehrer!$C$1:$N$100,9,TRUE),\"\")","v":""},null,{"$f":"IFERROR(VLOOKUP(E90,Gegenstand!$B$1:$E$400,4,TRUE),\"\")","v":""},"","",null,null,null,null,null,null,null,{"$f":"IFERROR(VLOOKUP(O90,Raum!$B$1:$E$400,4,TRUE),\"\")","v":""}]
[null,"Gruppe",null,{"$f":"IFERROR(VLOOKUP(C91,Lehrer!$C$1:$N$100,9,TRUE),\"\")","v":""},null,{"$f":"IFERROR(VLOOKUP(E91,Gegenstand!$B$1:$E$400,4,TRUE),\"\")","v":""},"","",null,null,null,null,null,null,null,{"$f":"IFERROR(VLOOKUP(O91,Raum!$B$1:$E$400,4,TRUE),\"\")","v":""}]
[null,"Gruppe",null,{"$f":"IFERROR(VLOOKUP(C92,Lehrer!$C$1:$N$100,9,TRUE),\"\")","v":""},null,{"$f":"IFERROR(VLOOKUP(E92,Gegenstand!$B$1:$E$400,4,TRUE),\"\")","v":""},"","",null,null,null,null,null,null,null,{"$f":"IFERROR(VLOOKUP(O92,Raum!$B$1:$E$400,4,TRUE),\"\")","v":""}]
[null,"Gruppe",null,{"$f":"IFERROR(VLOOKUP(C93,Lehrer!$C$1:$N$100,9,TRUE),\"\")","v":""},null,{"$f":"IFERROR(VLOOKUP(E93,Gegenstand!$B$1:$E$400,4,TRUE),\"\")","v":""},"","",null,null,null,null,null,null,null,{"$f":"IFERROR(VLOOKUP(O93,Raum!$B$1:$E$400,4,TRUE),\"\")","v":""}]
[null,"Gruppe",null,{"$f":"IFERROR(VLOOKUP(C94,Lehrer!$C$1:$N$100,9,TRUE),\"\")","v":""},null,{"$f":"IFERROR(VLOOKUP(E94,Gegenstand!$B$1:$E$400,4,TRUE),\"\")","v":""},"","",null,null,null,null,null,null,null,{"$f":"IFERROR(VLOOKUP(O94,Raum!$B$1:$E$400,4,TRUE),\"\")","v":""}]
[null,"Gruppe",null,{"$f":"IFERROR(VLOOKUP(C95,Lehrer!$C$1:$N$100,9,TRUE),\"\")","v":""},null,{"$f":"IFERROR(VLOOKUP(E95,Gegenstand!$B$1:$E$400,4,TRUE),\"\")","v":""},"","",null,null,null,null,null,null,null,{"$f":"IFERROR(VLOOKUP(O95,Raum!$B$1:$E$400,4,TRUE),\"\")","v":""}]
[null,"Gruppe",null,{"$f":"IFERROR(VLOOKUP(C96,Lehrer!$C$1:$N$100,9,TRUE),\"\")","v":""},null,{"$f":"IFERROR(VLOOKUP(E96,Gegenstand!$B$1:$E$400,4,TRUE),\"\")","v":""},"","",null,null,null,null,null,null,null,{"$f":"IFERROR(VLOOKUP(O96,Raum!$B$1:$E$400,4,TRUE),\"\")","v":""}]
[null,"Gruppe",null,{"$f":"IFERROR(VLOOKUP(C97,Lehrer!$C$1:$N$100,9,TRUE),\"\")","v":""},null,{"$f":"IFERROR(VLOOKUP(E97,Gegenstand!$B$1:$E$400,4,TRUE),\"\")","v":""},"","",null,null,null,null,null,null,null,{"$f":"IFERROR(VLOOKUP(O97,Raum!$B$1:$E$400,4,TRUE),\"\")","v":""}]
[null,"Gruppe",null,{"$f":"IFERROR(VLOOKUP(C98,Lehrer!$C$1:$N$100,9,TRUE),\"\")","v":""},null,{"$f":"IFERROR(VLOOKUP(E98,Gegenstand!$B$1:$E$400,4,TRUE),\"\")","v":""},"","",null,null,null,null,null,null,null,{"$f":"IFERROR(VLOOKUP(O98,Raum!$B$1:$E$400,4,TRUE),\"\")","v":""}]
[null,"Gruppe",null,{"$f":"IFERROR(VLOOKUP(C99,Lehrer!$C$1:$N$100,9,TRUE),\"\")","v":""},null,{"$f":"IFERROR(VLOOKUP(E99,Gegenstand!$B$1:$E$400,4,TRUE),\"\")","v":""},"","",null,null,null,null,null,null,null,{"$f":"IFERROR(VLOOKUP(O99,Raum!$B$1:$E$400,4,TRUE),\"\")","v":""}]
[null,"Gruppe",null,{"$f":"IFERROR(VLOOKUP(C100,Lehrer!$C$1:$N$100,9,TRUE),\"\")","v":""},null,{"$f":"IFERROR(VLOOKUP(E100,Gegenstand!$B$1:$E$400,4,TRUE),\"\")","v":""},"","",null,null,null,null,null,null,null,{"$f":"IFERROR(VLOOKUP(O100,Raum!$B$1:$E$400,4,TRUE),\"\")","v":""}]
[null,"Gruppe",null,{"$f":"IFERROR(VLOOKUP(C101,Lehrer!$C$1:$N$100,9,TRUE),\"\")","v":""},null,{"$f":"IFERROR(VLOOKUP(E101,Gegenstand!$B$1:$E$400,4,TRUE),\"\")","v":""},"","",null,null,null,null,null,null,null,{"$f":"IFERROR(VLOOKUP(O101,Raum!$B$1:$E$400,4,TRUE),\"\")","v":""}]
[null,"Gruppe",null,{"$f":"IFERROR(VLOOKUP(C102,Lehrer!$C$1:$N$100,9,TRUE),\"\")","v":""},null,{"$f":"IFERROR(VLOOKUP(E102,Gegenstand!$B$1:$E$400,4,TRUE),\"\")","v":""},"","",null,null,null,null,null,null,null,{"$f":"IFERROR(VLOOKUP(O102,Raum!$B$1:$E$400,4,TRUE),\"\")","v":""}]
[null,"Gruppe",null,{"$f":"IFERROR(VLOOKUP(C103,Lehrer!$C$1:$N$100,9,TRUE),\"\")","v":""},null,{"$f":"IFERROR(VLOOKUP(E103,Gegenstand!$B$1:$E$400,4,TRUE),\"\")","v":""},"","",null,null,null,null,null,null,null,{"$f":"IFERROR(VLOOKUP(O103,Raum!$B$1:$E$400,4,TRUE),\"\")","v":""}]
[null,"Gruppe",null,{"$f":"IFERROR(VLOOKUP(C104,Lehrer!$C$1:$N$100,9,TRUE),\"\")","v":""},null,{"$f":"IFERROR(VLOOKUP(E104,Gegenstand!$B$1:$E$400,4,TRUE),\"\")","v":""},"","",null,null,null,null,null,null,null,{"$f":"IFERROR(VLOOKUP(O104,Raum!$B$1:$E$400,4,TRUE),\"\")","v":""}]
[null,"Gruppe",null,{"$f":"IFERROR(VLOOKUP(C105,Lehrer!$C$1:$N$100,9,TRUE),\"\")","v":""},null,{"$f":"IFERROR(VLOOKUP(E105,Gegenstand!$B$1:$E$400,4,TRUE),\"\")","v":""},"","",null,null,null,null,null,null,null,{"$f":"IFERROR(VLOOKUP(O105,Raum!$B$1:$E$400,4,TRUE),\"\")","v":""}]
[null,"Gruppe",null,{"$f":"IFERROR(VLOOKUP(C106,Lehrer!$C$1:$N$100,9,TRUE),\"\")","v":""},null,{"$f":"IFERROR(VLOOKUP(E106,Gegenstand!$B$1:$E$400,4,TRUE),\"\")","v":""},"","",null,null,null,null,null,null,null,{"$f":"IFERROR(VLOOKUP(O106,Raum!$B$1:$E$400,4,TRUE),\"\")","v":""}]
[null,"Gruppe",null,{"$f":"IFERROR(VLOOKUP(C107,Lehrer!$C$1:$N$100,9,TRUE),\"\")","v":""},null,{"$f":"IFERROR(VLOOKUP(E107,Gegenstand!$B$1:$E$400,4,TRUE),\"\")","v":""},"","",null,null,null,null,null,null,null,{"$f":"IFERROR(VLOOKUP(O107,Raum!$B$1:$E$400,4,TRUE),\"\")","v":""}]
[null,"Gruppe",null,{"$f":"IFERROR(VLOOKUP(C108,Lehrer!$C$1:$N$100,9,TRUE),\"\")","v":""},null,{"$f":"IFERROR(VLOOKUP(E108,Gegenstand!$B$1:$E$400,4,TRUE),\"\")","v":""},"","",null,null,null,null,null,null,null,{"$f":"IFERROR(VLOOKUP(O108,Raum!$B$1:$E$400,4,TRUE),\"\")","v":""}]
[null,"Gruppe",null,{"$f":"IFERROR(VLOOKUP(C109,Lehrer!$C$1:$N$100,9,TRUE),\"\")","v":""},null,{"$f":"IFERROR(VLOOKUP(E109,Gegenstand!$B$1:$E$400,4,TRUE),\"\")","v":""},"","",null,null,null,null,null,null,null,{"$f":"IFERROR(VLOOKUP(O109,Raum!$B$1:$E$400,4,TRUE),\"\")","v":""}]
[null,"Gruppe",null,{"$f":"IFERROR(VLOOKUP(C110,Lehrer!$C$1:$N$100,9,TRUE),\"\")","v":""},null,{"$f":"IFERROR(VLOOKUP(E110,Gegenstand!$B$1:$E$400,4,TRUE),\"\")","v":""},"","",null,null,null,null,null,null,null,{"$f":"IFERROR(VLOOKUP(O110,Raum!$B$1:$E$400,4,TRUE),\"\")","v":""}]
[null,"Gruppe",null,{"$f":"IFERROR(VLOOKUP(C111,Lehrer!$C$1:$N$100,9,TRUE),\"\")","v":""},null,{"$f":"IFERROR(VLOOKUP(E111,Gegenstand!$B$1:$E$400,4,TRUE),\"\")","v":""},"","",null,null,null,null,null,null,null,{"$f":"IFERROR(VLOOKUP(O111,Raum!$B$1:$E$400,4,TRUE),\"\")","v":""}]
[null,"Gruppe",null,{"$f":"IFERROR(VLOOKUP(C112,Lehrer!$C$1:$N$100,9,TRUE),\"\")","v":""},null,{"$f":"IFERROR(VLOOKUP(E112,Gegenstand!$B$1:$E$400,4,TRUE),\"\")","v":""},"","",null,null,null,null,null,null,null,{"$f":"IFERROR(VLOOKUP(O112,Raum!$B$1:$E$400,4,TRUE),\"\")","v":""}]
[null,"Gruppe",null,{"$f":"IFERROR(VLOOKUP(C113,Lehrer!$C$1:$N$100,9,TRUE),\"\")","v":""},null,{"$f":"IFERROR(VLOOKUP(E113,Gegenstand!$B$1:$E$400,4,TRUE),\"\")","v":""},"","",null,null,null,null,null,null,null,{"$f":"IFERROR(VLOOKUP(O113,Raum!$B$1:$E$400,4,TRUE),\"\")","v":""}]
[null,"Gruppe",null,{"$f":"IFERROR(VLOOKUP(C114,Lehrer!$C$1:$N$100,9,TRUE),\"\")","v":""},null,{"$f":"IFERROR(VLOOKUP(E114,Gegenstand!$B$1:$E$400,4,TRUE),\"\")","v":""},"","",null,null,null,null,null,null,null,{"$f":"IFERROR(VLOOKUP(O114,Raum!$B$1:$E$400,4,TRUE),\"\")","v":""}]
[null,"Gruppe",null,{"$f":"IFERROR(VLOOKUP(C115,Lehrer!$C$1:$N$100,9,TRUE),\"\")","v":""},null,{"$f":"IFERROR(VLOOKUP(E115,Gegenstand!$B$1:$E$400,4,TRUE),\"\")","v":""},"","",null,null,null,null,null,null,null,{"$f":"IFERROR(VLOOKUP(O115,Raum!$B$1:$E$400,4,TRUE),\"\")","v":""}]
[null,"Gruppe",null,{"$f":"IFERROR(VLOOKUP(C116,Lehrer!$C$1:$N$100,9,TRUE),\"\")","v":""},null,{"$f":"IFERROR(VLOOKUP(E116,Gegenstand!$B$1:$E$400,4,TRUE),\"\")","v":""},"","",null,null,null,null,null,null,null,{"$f":"IFERROR(VLOOKUP(O116,Raum!$B$1:$E$400,4,TRUE),\"\")","v":""}]
[null,"Gruppe",null,{"$f":"IFERROR(VLOOKUP(C117,Lehrer!$C$1:$N$100,9,TRUE),\"\")","v":""},null,{"$f":"IFERROR(VLOOKUP(E117,Gegenstand!$B$1:$E$400,4,TRUE),\"\")","v":""},"","",null,null,null,null,null,null,null,{"$f":"IFERROR(VLOOKUP(O117,Raum!$B$1:$E$400,4,TRUE),\"\")","v":""}]
[null,"Gruppe",null,{"$f":"IFERROR(VLOOKUP(C118,Lehrer!$C$1:$N$100,9,TRUE),\"\")","v":""},null,{"$f":"IFERROR(VLOOKUP(E118,Gegenstand!$B$1:$E$400,4,TRUE),\"\")","v":""},"","",null,null,null,null,null,null,null,{"$f":"IFERROR(VLOOKUP(O118,Raum!$B$1:$E$400,4,TRUE),\"\")","v":""}]
[null,"Gruppe",null,{"$f":"IFERROR(VLOOKUP(C119,Lehrer!$C$1:$N$100,9,TRUE),\"\")","v":""},null,{"$f":"IFERROR(VLOOKUP(E119,Gegenstand!$B$1:$E$400,4,TRUE),\"\")","v":""},"","",null,null,null,null,null,null,null,{"$f":"IFERROR(VLOOKUP(O119,Raum!$B$1:$E$400,4,TRUE),\"\")","v":""}]
[null,"Gruppe",null,{"$f":"IFERROR(VLOOKUP(C120,Lehrer!$C$1:$N$100,9,TRUE),\"\")","v":""},null,{"$f":"IFERROR(VLOOKUP(E120,Gegenstand!$B$1:$E$400,4,TRUE),\"\")","v":""},"","",null,null,null,null,null,null,null,{"$f":"IFERROR(VLOOKUP(O120,Raum!$B$1:$E$400,4,TRUE),\"\")","v":""}]
[null,"Gruppe",null,{"$f":"IFERROR(VLOOKUP(C121,Lehrer!$C$1:$N$100,9,TRUE),\"\")","v":""},null,{"$f":"IFERROR(VLOOKUP(E121,Gegenstand!$B$1:$E$400,4,TRUE),\"\")","v":""},"","",null,null,null,null,null,null,null,{"$f":"IFERROR(VLOOKUP(O121,Raum!$B$1:$E$400,4,TRUE),\"\")","v":""}]
[null,"Gruppe",null,{"$f":"IFERROR(VLOOKUP(C122,Lehrer!$C$1:$N$100,9,TRUE),\"\")","v":""},null,{"$f":"IFERROR(VLOOKUP(E122,Gegenstand!$B$1:$E$400,4,TRUE),\"\")","v":""},"","",null,null,null,null,null,null,null,{"$f":"IFERROR(VLOOKUP(O122,Raum!$B$1:$E$400,4,TRUE),\"\")","v":""}]
[null,"Gruppe",null,{"$f":"IFERROR(VLOOKUP(C123,Lehrer!$C$1:$N$100,9,TRUE),\"\")","v":""},null,{"$f":"IFERROR(VLOOKUP(E123,Gegenstand!$B$1:$E$400,4,TRUE),\"\")","v":""},"","",null,null,null,null,null,null,null,{"$f":"IFERROR(VLOOKUP(O123,Raum!$B$1:$E$400,4,TRUE),\"\")","v":""}]
[null,"Gruppe",null,{"$f":"IFERROR(VLOOKUP(C124,Lehrer!$C$1:$N$100,9,TRUE),\"\")","v":""},null,{"$f":"IFERROR(VLOOKUP(E124,Gegenstand!$B$1:$E$400,4,TRUE),\"\")","v":""},"","",null,null,null,null,null,null,null,{"$f":"IFERROR(VLOOKUP(O124,Raum!$B$1:$E$400,4,TRUE),\"\")","v":""}]
[null,"Gruppe",null,{"$f":"IFERROR(VLOOKUP(C125,Lehrer!$C$1:$N$100,9,TRUE),\"\")","v":""},null,{"$f":"IFERROR(VLOOKUP(E125,Gegenstand!$B$1:$E$400,4,TRUE),\"\")","v":""},"","",null,null,null,null,null,null,null,{"$f":"IFERROR(VLOOKUP(O125,Raum!$B$1:$E$400,4,TRUE),\"\")","v":""}]
[null,"Gruppe",null,{"$f":"IFERROR(VLOOKUP(C126,Lehrer!$C$1:$N$100,9,TRUE),\"\")","v":""},null,{"$f":"IFERROR(VLOOKUP(E126,Gegenstand!$B$1:$E$400,4,TRUE),\"\")","v":""},"","",null,null,null,null,null,null,null,{"$f":"IFERROR(VLOOKUP(O126,Raum!$B$1:$E$400,4,TRUE),\"\")","v":""}]
[null,"Gruppe",null,{"$f":"IFERROR(VLOOKUP(C127,Lehrer!$C$1:$N$100,9,TRUE),\"\")","v":""},null,{"$f":"IFERROR(VLOOKUP(E127,Gegenstand!$B$1:$E$400,4,TRUE),\"\")","v":""},"","",null,null,null,null,null,null,null,{"$f":"IFERROR(VLOOKUP(O127,Raum!$B$1:$E$400,4,TRUE),\"\")","v":""}]
[null,"Gruppe",null,{"$f":"IFERROR(VLOOKUP(C128,Lehrer!$C$1:$N$100,9,TRUE),\"\")","v":""},null,{"$f":"IFERROR(VLOOKUP(E128,Gegenstand!$B$1:$E$400,4,TRUE),\"\")","v":""},"","",null,null,null,null,null,null,null,{"$f":"IFERROR(VLOOKUP(O128,Raum!$B$1:$E$400,4,TRUE),\"\")","v":""}]
[null,"Gruppe",null,{"$f":"IFERROR(VLOOKUP(C129,Lehrer!$C$1:$N$100,9,TRUE),\"\")","v":""},null,{"$f":"IFERROR(VLOOKUP(E129,Gegenstand!$B$1:$E$400,4,TRUE),\"\")","v":""},"","",null,null,null,null,null,null,null,{"$f":"IFERROR(VLOOKUP(O129,Raum!$B$1:$E$400,4,TRUE),\"\")","v":""}]
[null,"Gruppe",null,{"$f":"IFERROR(VLOOKUP(C130,Lehrer!$C$1:$N$100,9,TRUE),\"\")","v":""},null,{"$f":"IFERROR(VLOOKUP(E130,Gegenstand!$B$1:$E$400,4,TRUE),\"\")","v":""},"","",null,null,null,null,null,null,null,{"$f":"IFERROR(VLOOKUP(O130,Raum!$B$1:$E$400,4,TRUE),\"\")","v":""}]
[null,"Gruppe",null,{"$f":"IFERROR(VLOOKUP(C131,Lehrer!$C$1:$N$100,9,TRUE),\"\")","v":""},null,{"$f":"IFERROR(VLOOKUP(E131,Gegenstand!$B$1:$E$400,4,TRUE),\"\")","v":""},"","",null,null,null,null,null,null,null,{"$f":"IFERROR(VLOOKUP(O131,Raum!$B$1:$E$400,4,TRUE),\"\")","v":""}]
[null,"Gruppe",null,{"$f":"IFERROR(VLOOKUP(C132,Lehrer!$C$1:$N$100,9,TRUE),\"\")","v":""},null,{"$f":"IFERROR(VLOOKUP(E132,Gegenstand!$B$1:$E$400,4,TRUE),\"\")","v":""},{"$f":"IFERROR(LEFT(F132,FIND(\"#\",F132)-1),\"\")","v":""},{"$f":"IFERROR(RIGHT(F132,LEN(F132)-FIND(\"#\",F132)),\"\")","v":""},null,null,null,null,null,null,null,{"$f":"IFERROR(VLOOKUP(O132,Raum!$B$1:$E$400,4,TRUE),\"\")","v":""}]
[null,"Gruppe",null,{"$f":"IFERROR(VLOOKUP(C133,Lehrer!$C$1:$N$100,9,TRUE),\"\")","v":""},null,{"$f":"IFERROR(VLOOKUP(E133,Gegenstand!$B$1:$E$400,4,TRUE),\"\")","v":""},"","",null,null,null,null,null,null,null,{"$f":"IFERROR(VLOOKUP(O133,Raum!$B$1:$E$400,4,TRUE),\"\")","v":""}]
[null,"Gruppe",null,{"$f":"IFERROR(VLOOKUP(C134,Lehrer!$C$1:$N$100,9,TRUE),\"\")","v":""},null,{"$f":"IFERROR(VLOOKUP(E134,Gegenstand!$B$1:$E$400,4,TRUE),\"\")","v":""},"","",null,null,null,null,null,null,null,{"$f":"IFERROR(VLOOKUP(O134,Raum!$B$1:$E$400,4,TRUE),\"\")","v":""}]
[null,"Gruppe",null,{"$f":"IFERROR(VLOOKUP(C135,Lehrer!$C$1:$N$100,9,TRUE),\"\")","v":""},null,{"$f":"IFERROR(VLOOKUP(E135,Gegenstand!$B$1:$E$400,4,TRUE),\"\")","v":""},"","",null,null,null,null,null,null,null,{"$f":"IFERROR(VLOOKUP(O135,Raum!$B$1:$E$400,4,TRUE),\"\")","v":""}]
[null,"Gruppe",null,{"$f":"IFERROR(VLOOKUP(C136,Lehrer!$C$1:$N$100,9,TRUE),\"\")","v":""},null,{"$f":"IFERROR(VLOOKUP(E136,Gegenstand!$B$1:$E$400,4,TRUE),\"\")","v":""},"","",null,null,null,null,null,null,null,{"$f":"IFERROR(VLOOKUP(O136,Raum!$B$1:$E$400,4,TRUE),\"\")","v":""}]
[null,"Gruppe",null,{"$f":"IFERROR(VLOOKUP(C137,Lehrer!$C$1:$N$100,9,TRUE),\"\")","v":""},null,{"$f":"IFERROR(VLOOKUP(E137,Gegenstand!$B$1:$E$400,4,TRUE),\"\")","v":""},"","",null,null,null,null,null,null,null,{"$f":"IFERROR(VLOOKUP(O137,Raum!$B$1:$E$400,4,TRUE),\"\")","v":""}]
[null,"Gruppe",null,{"$f":"IFERROR(VLOOKUP(C138,Lehrer!$C$1:$N$100,9,TRUE),\"\")","v":""},null,{"$f":"IFERROR(VLOOKUP(E138,Gegenstand!$B$1:$E$400,4,TRUE),\"\")","v":""},"","",null,null,null,null,null,null,null,{"$f":"IFERROR(VLOOKUP(O138,Raum!$B$1:$E$400,4,TRUE),\"\")","v":""}]
[null,"Gruppe",null,{"$f":"IFERROR(VLOOKUP(C139,Lehrer!$C$1:$N$100,9,TRUE),\"\")","v":""},null,{"$f":"IFERROR(VLOOKUP(E139,Gegenstand!$B$1:$E$400,4,TRUE),\"\")","v":""},"","",null,null,null,null,null,null,null,{"$f":"IFERROR(VLOOKUP(O139,Raum!$B$1:$E$400,4,TRUE),\"\")","v":""}]
[null,"Gruppe",null,{"$f":"IFERROR(VLOOKUP(C140,Lehrer!$C$1:$N$100,9,TRUE),\"\")","v":""},null,{"$f":"IFERROR(VLOOKUP(E140,Gegenstand!$B$1:$E$400,4,TRUE),\"\")","v":""},"","",null,null,null,null,null,null,null,{"$f":"IFERROR(VLOOKUP(O140,Raum!$B$1:$E$400,4,TRUE),\"\")","v":""}]
[null,"Gruppe",null,{"$f":"IFERROR(VLOOKUP(C141,Lehrer!$C$1:$N$100,9,TRUE),\"\")","v":""},null,{"$f":"IFERROR(VLOOKUP(E141,Gegenstand!$B$1:$E$400,4,TRUE),\"\")","v":""},"","",null,null,null,null,null,null,null,{"$f":"IFERROR(VLOOKUP(O141,Raum!$B$1:$E$400,4,TRUE),\"\")","v":""}]
[null,"Gruppe",null,{"$f":"IFERROR(VLOOKUP(C142,Lehrer!$C$1:$N$100,9,TRUE),\"\")","v":""},null,{"$f":"IFERROR(VLOOKUP(E142,Gegenstand!$B$1:$E$400,4,TRUE),\"\")","v":""},"","",null,null,null,null,null,null,null,{"$f":"IFERROR(VLOOKUP(O142,Raum!$B$1:$E$400,4,TRUE),\"\")","v":""}]
[null,"Gruppe",null,{"$f":"IFERROR(VLOOKUP(C143,Lehrer!$C$1:$N$100,9,TRUE),\"\")","v":""},null,{"$f":"IFERROR(VLOOKUP(E143,Gegenstand!$B$1:$E$400,4,TRUE),\"\")","v":""},"","",null,null,null,null,null,null,null,{"$f":"IFERROR(VLOOKUP(O143,Raum!$B$1:$E$400,4,TRUE),\"\")","v":""}]
[null,"Gruppe",null,{"$f":"IFERROR(VLOOKUP(C144,Lehrer!$C$1:$N$100,9,TRUE),\"\")","v":""},null,{"$f":"IFERROR(VLOOKUP(E144,Gegenstand!$B$1:$E$400,4,TRUE),\"\")","v":""},"","",null,null,null,null,null,null,null,{"$f":"IFERROR(VLOOKUP(O144,Raum!$B$1:$E$400,4,TRUE),\"\")","v":""}]
[null,"Gruppe",null,{"$f":"IFERROR(VLOOKUP(C145,Lehrer!$C$1:$N$100,9,TRUE),\"\")","v":""},null,{"$f":"IFERROR(VLOOKUP(E145,Gegenstand!$B$1:$E$400,4,TRUE),\"\")","v":""},"","",null,null,null,null,null,null,null,{"$f":"IFERROR(VLOOKUP(O145,Raum!$B$1:$E$400,4,TRUE),\"\")","v":""}]
[null,"Gruppe",null,{"$f":"IFERROR(VLOOKUP(C146,Lehrer!$C$1:$N$100,9,TRUE),\"\")","v":""},null,{"$f":"IFERROR(VLOOKUP(E146,Gegenstand!$B$1:$E$400,4,TRUE),\"\")","v":""},"","",null,null,null,null,null,null,null,{"$f":"IFERROR(VLOOKUP(O146,Raum!$B$1:$E$400,4,TRUE),\"\")","v":""}]
[null,"Gruppe",null,{"$f":"IFERROR(VLOOKUP(C147,Lehrer!$C$1:$N$100,9,TRUE),\"\")","v":""},null,{"$f":"IFERROR(VLOOKUP(E147,Gegenstand!$B$1:$E$400,4,TRUE),\"\")","v":""},"","",null,null,null,null,null,null,null,{"$f":"IFERROR(VLOOKUP(O147,Raum!$B$1:$E$400,4,TRUE),\"\")","v":""}]
[null,"Gruppe",null,{"$f":"IFERROR(VLOOKUP(C148,Lehrer!$C$1:$N$100,9,TRUE),\"\")","v":""},null,{"$f":"IFERROR(VLOOKUP(E148,Gegenstand!$B$1:$E$400,4,TRUE),\"\")","v":""},"","",null,null,null,null,null,null,null,{"$f":"IFERROR(VLOOKUP(O148,Raum!$B$1:$E$400,4,TRUE),\"\")","v":""}]
[null,"Gruppe",null,{"$f":"IFERROR(VLOOKUP(C149,Lehrer!$C$1:$N$100,9,TRUE),\"\")","v":""},null,{"$f":"IFERROR(VLOOKUP(E149,Gegenstand!$B$1:$E$400,4,TRUE),\"\")","v":""},"","",null,null,null,null,null,null,null,{"$f":"IFERROR(VLOOKUP(O149,Raum!$B$1:$E$400,4,TRUE),\"\")","v":""}]
[null,"Gruppe",null,{"$f":"IFERROR(VLOOKUP(C150,Lehrer!$C$1:$N$100,9,TRUE),\"\")","v":""},null,{"$f":"IFERROR(VLOOKUP(E150,Gegenstand!$B$1:$E$400,4,TRUE),\"\")","v":""},"","",null,null,null,null,null,null,null,{"$f":"IFERROR(VLOOKUP(O150,Raum!$B$1:$E$400,4,TRUE),\"\")","v":""}]
[null,"Gruppe",null,{"$f":"IFERROR(VLOOKUP(C151,Lehrer!$C$1:$N$100,9,TRUE),\"\")","v":""},null,{"$f":"IFERROR(VLOOKUP(E151,Gegenstand!$B$1:$E$400,4,TRUE),\"\")","v":""},"","",null,null,null,null,null,null,null,{"$f":"IFERROR(VLOOKUP(O151,Raum!$B$1:$E$400,4,TRUE),\"\")","v":""}]
[null,"Gruppe",null,{"$f":"IFERROR(VLOOKUP(C152,Lehrer!$C$1:$N$100,9,TRUE),\"\")","v":""},null,{"$f":"IFERROR(VLOOKUP(E152,Gegenstand!$B$1:$E$400,4,TRUE),\"\")","v":""},"","",null,null,null,null,null,null,null,{"$f":"IFERROR(VLOOKUP(O152,Raum!$B$1:$E$400,4,TRUE),\"\")","v":""}]
[null,"Gruppe",null,{"$f":"IFERROR(VLOOKUP(C153,Lehrer!$C$1:$N$100,9,TRUE),\"\")","v":""},null,{"$f":"IFERROR(VLOOKUP(E153,Gegenstand!$B$1:$E$400,4,TRUE),\"\")","v":""},"","",null,null,null,null,null,null,null,{"$f":"IFERROR(VLOOKUP(O153,Raum!$B$1:$E$400,4,TRUE),\"\")","v":""}]
[null,"Gruppe",null,{"$f":"IFERROR(VLOOKUP(C154,Lehrer!$C$1:$N$100,9,TRUE),\"\")","v":""},null,{"$f":"IFERROR(VLOOKUP(E154,Gegenstand!$B$1:$E$400,4,TRUE),\"\")","v":""},"","",null,null,null,null,null,null,null,{"$f":"IFERROR(VLOOKUP(O154,Raum!$B$1:$E$400,4,TRUE),\"\")","v":""}]
[null,"Gruppe",null,{"$f":"IFERROR(VLOOKUP(C155,Lehrer!$C$1:$N$100,9,TRUE),\"\")","v":""},null,{"$f":"IFERROR(VLOOKUP(E155,Gegenstand!$B$1:$E$400,4,TRUE),\"\")","v":""},"","",null,null,null,null,null,null,null,{"$f":"IFERROR(VLOOKUP(O155,Raum!$B$1:$E$400,4,TRUE),\"\")","v":""}]
[null,"Gruppe",null,{"$f":"IFERROR(VLOOKUP(C156,Lehrer!$C$1:$N$100,9,TRUE),\"\")","v":""},null,{"$f":"IFERROR(VLOOKUP(E156,Gegenstand!$B$1:$E$400,4,TRUE),\"\")","v":""},"","",null,null,null,null,null,null,null,{"$f":"IFERROR(VLOOKUP(O156,Raum!$B$1:$E$400,4,TRUE),\"\")","v":""}]
[null,"Gruppe",null,{"$f":"IFERROR(VLOOKUP(C157,Lehrer!$C$1:$N$100,9,TRUE),\"\")","v":""},null,{"$f":"IFERROR(VLOOKUP(E157,Gegenstand!$B$1:$E$400,4,TRUE),\"\")","v":""},"","",null,null,null,null,null,null,null,{"$f":"IFERROR(VLOOKUP(O157,Raum!$B$1:$E$400,4,TRUE),\"\")","v":""}]
[null,"Gruppe",null,{"$f":"IFERROR(VLOOKUP(C158,Lehrer!$C$1:$N$100,9,TRUE),\"\")","v":""},null,{"$f":"IFERROR(VLOOKUP(E158,Gegenstand!$B$1:$E$400,4,TRUE),\"\")","v":""},"","",null,null,null,null,null,null,null,{"$f":"IFERROR(VLOOKUP(O158,Raum!$B$1:$E$400,4,TRUE),\"\")","v":""}]
[null,"Gruppe",null,{"$f":"IFERROR(VLOOKUP(C159,Lehrer!$C$1:$N$100,9,TRUE),\"\")","v":""},null,{"$f":"IFERROR(VLOOKUP(E159,Gegenstand!$B$1:$E$400,4,TRUE),\"\")","v":""},"","",null,null,null,null,null,null,null,{"$f":"IFERROR(VLOOKUP(O159,Raum!$B$1:$E$400,4,TRUE),\"\")","v":""}]
[null,"Gruppe",null,{"$f":"IFERROR(VLOOKUP(C160,Lehrer!$C$1:$N$100,9,TRUE),\"\")","v":""},null,{"$f":"IFERROR(VLOOKUP(E160,Gegenstand!$B$1:$E$400,4,TRUE),\"\")","v":""},"","",null,null,null,null,null,null,null,{"$f":"IFERROR(VLOOKUP(O160,Raum!$B$1:$E$400,4,TRUE),\"\")","v":""}]
[null,"Gruppe",null,{"$f":"IFERROR(VLOOKUP(C161,Lehrer!$C$1:$N$100,9,TRUE),\"\")","v":""},null,{"$f":"IFERROR(VLOOKUP(E161,Gegenstand!$B$1:$E$400,4,TRUE),\"\")","v":""},"","",null,null,null,null,null,null,null,{"$f":"IFERROR(VLOOKUP(O161,Raum!$B$1:$E$400,4,TRUE),\"\")","v":""}]
[null,"Gruppe",null,{"$f":"IFERROR(VLOOKUP(C162,Lehrer!$C$1:$N$100,9,TRUE),\"\")","v":""},null,{"$f":"IFERROR(VLOOKUP(E162,Gegenstand!$B$1:$E$400,4,TRUE),\"\")","v":""},"","",null,null,null,null,null,null,null,{"$f":"IFERROR(VLOOKUP(O162,Raum!$B$1:$E$400,4,TRUE),\"\")","v":""}]
[null,"Gruppe",null,{"$f":"IFERROR(VLOOKUP(C163,Lehrer!$C$1:$N$100,9,TRUE),\"\")","v":""},null,{"$f":"IFERROR(VLOOKUP(E163,Gegenstand!$B$1:$E$400,4,TRUE),\"\")","v":""},"","",null,null,null,null,null,null,null,{"$f":"IFERROR(VLOOKUP(O163,Raum!$B$1:$E$400,4,TRUE),\"\")","v":""}]
[null,"Gruppe",null,{"$f":"IFERROR(VLOOKUP(C164,Lehrer!$C$1:$N$100,9,TRUE),\"\")","v":""},null,{"$f":"IFERROR(VLOOKUP(E164,Gegenstand!$B$1:$E$400,4,TRUE),\"\")","v":""},"","",null,null,null,null,null,null,null,{"$f":"IFERROR(VLOOKUP(O164,Raum!$B$1:$E$400,4,TRUE),\"\")","v":""}]
[null,"Gruppe",null,{"$f":"IFERROR(VLOOKUP(C165,Lehrer!$C$1:$N$100,9,TRUE),\"\")","v":""},null,{"$f":"IFERROR(VLOOKUP(E165,Gegenstand!$B$1:$E$400,4,TRUE),\"\")","v":""},"","",null,null,null,null,null,null,null,{"$f":"IFERROR(VLOOKUP(O165,Raum!$B$1:$E$400,4,TRUE),\"\")","v":""}]
[null,"Gruppe",null,{"$f":"IFERROR(VLOOKUP(C166,Lehrer!$C$1:$N$100,9,TRUE),\"\")","v":""},null,{"$f":"IFERROR(VLOOKUP(E166,Gegenstand!$B$1:$E$400,4,TRUE),\"\")","v":""},"","",null,null,null,null,null,null,null,{"$f":"IFERROR(VLOOKUP(O166,Raum!$B$1:$E$400,4,TRUE),\"\")","v":""}]
[null,"Gruppe",null,{"$f":"IFERROR(VLOOKUP(C167,Lehrer!$C$1:$N$100,9,TRUE),\"\")","v":""},null,{"$f":"IFERROR(VLOOKUP(E167,Gegenstand!$B$1:$E$400,4,TRUE),\"\")","v":""},"","",null,null,null,null,null,null,null,{"$f":"IFERROR(VLOOKUP(O167,Raum!$B$1:$E$400,4,TRUE),\"\")","v":""}]
[null,"Gruppe",null,{"$f":"IFERROR(VLOOKUP(C168,Lehrer!$C$1:$N$100,9,TRUE),\"\")","v":""},null,{"$f":"IFERROR(VLOOKUP(E168,Gegenstand!$B$1:$E$400,4,TRUE),\"\")","v":""},"","",null,null,null,null,null,null,null,{"$f":"IFERROR(VLOOKUP(O168,Raum!$B$1:$E$400,4,TRUE),\"\")","v":""}]
[null,"Gruppe",null,{"$f":"IFERROR(VLOOKUP(C169,Lehrer!$C$1:$N$100,9,TRUE),\"\")","v":""},null,{"$f":"IFERROR(VLOOKUP(E169,Gegenstand!$B$1:$E$400,4,TRUE),\"\")","v":""},"","",null,null,null,null,null,null,null,{"$f":"IFERROR(VLOOKUP(O169,Raum!$B$1:$E$400,4,TRUE),\"\")","v":""}]
[null,"Gruppe",null,{"$f":"IFERROR(VLOOKUP(C170,Lehrer!$C$1:$N$100,9,TRUE),\"\")","v":""},null,{"$f":"IFERROR(VLOOKUP(E170,Gegenstand!$B$1:$E$400,4,TRUE),\"\")","v":""},"","",null,null,null,null,null,null,null,{"$f":"IFERROR(VLOOKUP(O170,Raum!$B$1:$E$400,4,TRUE),\"\")","v":""}]
[null,"Gruppe",null,{"$f":"IFERROR(VLOOKUP(C171,Lehrer!$C$1:$N$100,9,TRUE),\"\")","v":""},null,{"$f":"IFERROR(VLOOKUP(E171,Gegenstand!$B$1:$E$400,4,TRUE),\"\")","v":""},"","",null,null,null,null,null,null,null,{"$f":"IFERROR(VLOOKUP(O171,Raum!$B$1:$E$400,4,TRUE),\"\")","v":""}]
[null,"Gruppe",null,{"$f":"IFERROR(VLOOKUP(C172,Lehrer!$C$1:$N$100,9,TRUE),\"\")","v":""},null,{"$f":"IFERROR(VLOOKUP(E172,Gegenstand!$B$1:$E$400,4,TRUE),\"\")","v":""},"","",null,null,null,null,null,null,null,{"$f":"IFERROR(VLOOKUP(O172,Raum!$B$1:$E$400,4,TRUE),\"\")","v":""}]
[null,"Gruppe",null,{"$f":"IFERROR(VLOOKUP(C173,Lehrer!$C$1:$N$100,9,TRUE),\"\")","v":""},null,{"$f":"IFERROR(VLOOKUP(E173,Gegenstand!$B$1:$E$400,4,TRUE),\"\")","v":""},"","",null,null,null,null,null,null,null,{"$f":"IFERROR(VLOOKUP(O173,Raum!$B$1:$E$400,4,TRUE),\"\")","v":""}]
[null,"Gruppe",null,{"$f":"IFERROR(VLOOKUP(C174,Lehrer!$C$1:$N$100,9,TRUE),\"\")","v":""},null,{"$f":"IFERROR(VLOOKUP(E174,Gegenstand!$B$1:$E$400,4,TRUE),\"\")","v":""},"","",null,null,null,null,null,null,null,{"$f":"IFERROR(VLOOKUP(O174,Raum!$B$1:$E$400,4,TRUE),\"\")","v":""}]
[null,"Gruppe",null,{"$f":"IFERROR(VLOOKUP(C175,Lehrer!$C$1:$N$100,9,TRUE),\"\")","v":""},null,{"$f":"IFERROR(VLOOKUP(E175,Gegenstand!$B$1:$E$400,4,TRUE),\"\")","v":""},"","",null,null,null,null,null,null,null,{"$f":"IFERROR(VLOOKUP(O175,Raum!$B$1:$E$400,4,TRUE),\"\")","v":""}]
[null,"Gruppe",null,{"$f":"IFERROR(VLOOKUP(C176,Lehrer!$C$1:$N$100,9,TRUE),\"\")","v":""},null,{"$f":"IFERROR(VLOOKUP(E176,Gegenstand!$B$1:$E$400,4,TRUE),\"\")","v":""},"","",null,null,null,null,null,null,null,{"$f":"IFERROR(VLOOKUP(O176,Raum!$B$1:$E$400,4,TRUE),\"\")","v":""}]
[null,"Gruppe",null,{"$f":"IFERROR(VLOOKUP(C177,Lehrer!$C$1:$N$100,9,TRUE),\"\")","v":""},null,{"$f":"IFERROR(VLOOKUP(E177,Gegenstand!$B$1:$E$400,4,TRUE),\"\")","v":""},"","",null,null,null,null,null,null,null,{"$f":"IFERROR(VLOOKUP(O177,Raum!$B$1:$E$400,4,TRUE),\"\")","v":""}]
[null,"Gruppe",null,{"$f":"IFERROR(VLOOKUP(C178,Lehrer!$C$1:$N$100,9,TRUE),\"\")","v":""},null,{"$f":"IFERROR(VLOOKUP(E178,Gegenstand!$B$1:$E$400,4,TRUE),\"\")","v":""},"","",null,null,null,null,null,null,null,{"$f":"IFERROR(VLOOKUP(O178,Raum!$B$1:$E$400,4,TRUE),\"\")","v":""}]
[null,"Gruppe",null,{"$f":"IFERROR(VLOOKUP(C179,Lehrer!$C$1:$N$100,9,TRUE),\"\")","v":""},null,{"$f":"IFERROR(VLOOKUP(E179,Gegenstand!$B$1:$E$400,4,TRUE),\"\")","v":""},"","",null,null,null,null,null,null,null,{"$f":"IFERROR(VLOOKUP(O179,Raum!$B$1:$E$400,4,TRUE),\"\")","v":""}]
[null,"Gruppe",null,{"$f":"IFERROR(VLOOKUP(C180,Lehrer!$C$1:$N$100,9,TRUE),\"\")","v":""},null,{"$f":"IFERROR(VLOOKUP(E180,Gegenstand!$B$1:$E$400,4,TRUE),\"\")","v":""},"","",null,null,null,null,null,null,null,{"$f":"IFERROR(VLOOKUP(O180,Raum!$B$1:$E$400,4,TRUE),\"\")","v":""}]
[null,"Gruppe",null,{"$f":"IFERROR(VLOOKUP(C181,Lehrer!$C$1:$N$100,9,TRUE),\"\")","v":""},null,{"$f":"IFERROR(VLOOKUP(E181,Gegenstand!$B$1:$E$400,4,TRUE),\"\")","v":""},"","",null,null,null,null,null,null,null,{"$f":"IFERROR(VLOOKUP(O181,Raum!$B$1:$E$400,4,TRUE),\"\")","v":""}]
[null,"Gruppe",null,{"$f":"IFERROR(VLOOKUP(C182,Lehrer!$C$1:$N$100,9,TRUE),\"\")","v":""},null,{"$f":"IFERROR(VLOOKUP(E182,Gegenstand!$B$1:$E$400,4,TRUE),\"\")","v":""},"","",null,null,null,null,null,null,null,{"$f":"IFERROR(VLOOKUP(O182,Raum!$B$1:$E$400,4,TRUE),\"\")","v":""}]
[null,"Gruppe",null,{"$f":"IFERROR(VLOOKUP(C183,Lehrer!$C$1:$N$100,9,TRUE),\"\")","v":""},null,{"$f":"IFERROR(VLOOKUP(E183,Gegenstand!$B$1:$E$400,4,TRUE),\"\")","v":""},"","",null,null,null,null,null,null,null,{"$f":"IFERROR(VLOOKUP(O183,Raum!$B$1:$E$400,4,TRUE),\"\")","v":""}]
[null,"Gruppe",null,{"$f":"IFERROR(VLOOKUP(C184,Lehrer!$C$1:$N$100,9,TRUE),\"\")","v":""},null,{"$f":"IFERROR(VLOOKUP(E184,Gegenstand!$B$1:$E$400,4,TRUE),\"\")","v":""},"","",null,null,null,null,null,null,null,{"$f":"IFERROR(VLOOKUP(O184,Raum!$B$1:$E$400,4,TRUE),\"\")","v":""}]
[null,"Gruppe",null,{"$f":"IFERROR(VLOOKUP(C185,Lehrer!$C$1:$N$100,9,TRUE),\"\")","v":""},null,{"$f":"IFERROR(VLOOKUP(E185,Gegenstand!$B$1:$E$400,4,TRUE),\"\")","v":""},"","",null,null,null,null,null,null,null,{"$f":"IFERROR(VLOOKUP(O185,Raum!$B$1:$E$400,4,TRUE),\"\")","v":""}]
[null,"Gruppe",null,{"$f":"IFERROR(VLOOKUP(C186,Lehrer!$C$1:$N$100,9,TRUE),\"\")","v":""},null,{"$f":"IFERROR(VLOOKUP(E186,Gegenstand!$B$1:$E$400,4,TRUE),\"\")","v":""},"","",null,null,null,null,null,null,null,{"$f":"IFERROR(VLOOKUP(O186,Raum!$B$1:$E$400,4,TRUE),\"\")","v":""}]
[null,"Gruppe",null,{"$f":"IFERROR(VLOOKUP(C187,Lehrer!$C$1:$N$100,9,TRUE),\"\")","v":""},null,{"$f":"IFERROR(VLOOKUP(E187,Gegenstand!$B$1:$E$400,4,TRUE),\"\")","v":""},"","",null,null,null,null,null,null,null,{"$f":"IFERROR(VLOOKUP(O187,Raum!$B$1:$E$400,4,TRUE),\"\")","v":""}]
[null,"Gruppe",null,{"$f":"IFERROR(VLOOKUP(C188,Lehrer!$C$1:$N$100,9,TRUE),\"\")","v":""},null,{"$f":"IFERROR(VLOOKUP(E188,Gegenstand!$B$1:$E$400,4,TRUE),\"\")","v":""},"","",null,null,null,null,null,null,null,{"$f":"IFERROR(VLOOKUP(O188,Raum!$B$1:$E$400,4,TRUE),\"\")","v":""}]
[null,"Gruppe",null,{"$f":"IFERROR(VLOOKUP(C189,Lehrer!$C$1:$N$100,9,TRUE),\"\")","v":""},null,{"$f":"IFERROR(VLOOKUP(E189,Gegenstand!$B$1:$E$400,4,TRUE),\"\")","v":""},"","",null,null,null,null,null,null,null,{"$f":"IFERROR(VLOOKUP(O189,Raum!$B$1:$E$400,4,TRUE),\"\")","v":""}]
[null,"Gruppe",null,{"$f":"IFERROR(VLOOKUP(C190,Lehrer!$C$1:$N$100,9,TRUE),\"\")","v":""},null,{"$f":"IFERROR(VLOOKUP(E190,Gegenstand!$B$1:$E$400,4,TRUE),\"\")","v":""},"","",null,null,null,null,null,null,null,{"$f":"IFERROR(VLOOKUP(O190,Raum!$B$1:$E$400,4,TRUE),\"\")","v":""}]
[null,"Gruppe",null,{"$f":"IFERROR(VLOOKUP(C191,Lehrer!$C$1:$N$100,9,TRUE),\"\")","v":""},null,{"$f":"IFERROR(VLOOKUP(E191,Gegenstand!$B$1:$E$400,4,TRUE),\"\")","v":""},"","",null,null,null,null,null,null,null,{"$f":"IFERROR(VLOOKUP(O191,Raum!$B$1:$E$400,4,TRUE),\"\")","v":""}]
[null,"Gruppe",null,{"$f":"IFERROR(VLOOKUP(C192,Lehrer!$C$1:$N$100,9,TRUE),\"\")","v":""},null,{"$f":"IFERROR(VLOOKUP(E192,Gegenstand!$B$1:$E$400,4,TRUE),\"\")","v":""},"","",null,null,null,null,null,null,null,{"$f":"IFERROR(VLOOKUP(O192,Raum!$B$1:$E$400,4,TRUE),\"\")","v":""}]
[null,"Gruppe",null,{"$f":"IFERROR(VLOOKUP(C193,Lehrer!$C$1:$N$100,9,TRUE),\"\")","v":""},null,{"$f":"IFERROR(VLOOKUP(E193,Gegenstand!$B$1:$E$400,4,TRUE),\"\")","v":""},"","",null,null,null,null,null,null,null,{"$f":"IFERROR(VLOOKUP(O193,Raum!$B$1:$E$400,4,TRUE),\"\")","v":""}]
[null,"Gruppe",null,{"$f":"IFERROR(VLOOKUP(C194,Lehrer!$C$1:$N$100,9,TRUE),\"\")","v":""},null,{"$f":"IFERROR(VLOOKUP(E194,Gegenstand!$B$1:$E$400,4,TRUE),\"\")","v":""},"","",null,null,null,null,null,null,null,{"$f":"IFERROR(VLOOKUP(O194,Raum!$B$1:$E$400,4,TRUE),\"\")","v":""}]
[null,"Gruppe",null,{"$f":"IFERROR(VLOOKUP(C195,Lehrer!$C$1:$N$100,9,TRUE),\"\")","v":""},null,{"$f":"IFERROR(VLOOKUP(E195,Gegenstand!$B$1:$E$400,4,TRUE),\"\")","v":""},"","",null,null,null,null,null,null,null,{"$f":"IFERROR(VLOOKUP(O195,Raum!$B$1:$E$400,4,TRUE),\"\")","v":""}]
[null,"Gruppe",null,{"$f":"IFERROR(VLOOKUP(C196,Lehrer!$C$1:$N$100,9,TRUE),\"\")","v":""},null,{"$f":"IFERROR(VLOOKUP(E196,Gegenstand!$B$1:$E$400,4,TRUE),\"\")","v":""},{"$f":"IFERROR(LEFT(F196,FIND(\"#\",F196)-1),\"\")","v":""},{"$f":"IFERROR(RIGHT(F196,LEN(F196)-FIND(\"#\",F196)),\"\")","v":""},null,null,null,null,null,null,null,{"$f":"IFERROR(VLOOKUP(O196,Raum!$B$1:$E$400,4,TRUE),\"\")","v":""}]
[null,"Gruppe",null,{"$f":"IFERROR(VLOOKUP(C197,Lehrer!$C$1:$N$100,9,TRUE),\"\")","v":""},null,{"$f":"IFERROR(VLOOKUP(E197,Gegenstand!$B$1:$E$400,4,TRUE),\"\")","v":""},"","",null,null,null,null,null,null,null,{"$f":"IFERROR(VLOOKUP(O197,Raum!$B$1:$E$400,4,TRUE),\"\")","v":""}]
[null,"Gruppe",null,{"$f":"IFERROR(VLOOKUP(C198,Lehrer!$C$1:$N$100,9,TRUE),\"\")","v":""},null,{"$f":"IFERROR(VLOOKUP(E198,Gegenstand!$B$1:$E$400,4,TRUE),\"\")","v":""},"","",null,null,null,null,null,null,null,{"$f":"IFERROR(VLOOKUP(O198,Raum!$B$1:$E$400,4,TRUE),\"\")","v":""}]
[null,"Gruppe",null,{"$f":"IFERROR(VLOOKUP(C199,Lehrer!$C$1:$N$100,9,TRUE),\"\")","v":""},null,{"$f":"IFERROR(VLOOKUP(E199,Gegenstand!$B$1:$E$400,4,TRUE),\"\")","v":""},"","",null,null,null,null,null,null,null,{"$f":"IFERROR(VLOOKUP(O199,Raum!$B$1:$E$400,4,TRUE),\"\")","v":""}]
[null,"Gruppe",null,{"$f":"IFERROR(VLOOKUP(C200,Lehrer!$C$1:$N$100,9,TRUE),\"\")","v":""},null,{"$f":"IFERROR(VLOOKUP(E200,Gegenstand!$B$1:$E$400,4,TRUE),\"\")","v":""},"","",null,null,null,null,null,null,null,{"$f":"IFERROR(VLOOKUP(O200,Raum!$B$1:$E$400,4,TRUE),\"\")","v":""}]
[null,"Gruppe",null,{"$f":"IFERROR(VLOOKUP(C201,Lehrer!$C$1:$N$100,9,TRUE),\"\")","v":""},null,{"$f":"IFERROR(VLOOKUP(E201,Gegenstand!$B$1:$E$400,4,TRUE),\"\")","v":""},"","",null,null,null,null,null,null,null,{"$f":"IFERROR(VLOOKUP(O201,Raum!$B$1:$E$400,4,TRUE),\"\")","v":""}]
[null,"Gruppe",null,{"$f":"IFERROR(VLOOKUP(C202,Lehrer!$C$1:$N$100,9,TRUE),\"\")","v":""},null,{"$f":"IFERROR(VLOOKUP(E202,Gegenstand!$B$1:$E$400,4,TRUE),\"\")","v":""},"","",null,null,null,null,null,null,null,{"$f":"IFERROR(VLOOKUP(O202,Raum!$B$1:$E$400,4,TRUE),\"\")","v":""}]
[null,"Gruppe",null,{"$f":"IFERROR(VLOOKUP(C203,Lehrer!$C$1:$N$100,9,TRUE),\"\")","v":""},null,{"$f":"IFERROR(VLOOKUP(E203,Gegenstand!$B$1:$E$400,4,TRUE),\"\")","v":""},"","",null,null,null,null,null,null,null,{"$f":"IFERROR(VLOOKUP(O203,Raum!$B$1:$E$400,4,TRUE),\"\")","v":""}]
[null,"Gruppe",null,{"$f":"IFERROR(VLOOKUP(C204,Lehrer!$C$1:$N$100,9,TRUE),\"\")","v":""},null,{"$f":"IFERROR(VLOOKUP(E204,Gegenstand!$B$1:$E$400,4,TRUE),\"\")","v":""},"","",null,null,null,null,null,null,null,{"$f":"IFERROR(VLOOKUP(O204,Raum!$B$1:$E$400,4,TRUE),\"\")","v":""}]
[null,"Gruppe",null,{"$f":"IFERROR(VLOOKUP(C205,Lehrer!$C$1:$N$100,9,TRUE),\"\")","v":""},null,{"$f":"IFERROR(VLOOKUP(E205,Gegenstand!$B$1:$E$400,4,TRUE),\"\")","v":""},"","",null,null,null,null,null,null,null,{"$f":"IFERROR(VLOOKUP(O205,Raum!$B$1:$E$400,4,TRUE),\"\")","v":""}]
[null,"Gruppe",null,{"$f":"IFERROR(VLOOKUP(C206,Lehrer!$C$1:$N$100,9,TRUE),\"\")","v":""},null,{"$f":"IFERROR(VLOOKUP(E206,Gegenstand!$B$1:$E$400,4,TRUE),\"\")","v":""},"","",null,null,null,null,null,null,null,{"$f":"IFERROR(VLOOKUP(O206,Raum!$B$1:$E$400,4,TRUE),\"\")","v":""}]
[null,"Gruppe",null,{"$f":"IFERROR(VLOOKUP(C207,Lehrer!$C$1:$N$100,9,TRUE),\"\")","v":""},null,{"$f":"IFERROR(VLOOKUP(E207,Gegenstand!$B$1:$E$400,4,TRUE),\"\")","v":""},"","",null,null,null,null,null,null,null,{"$f":"IFERROR(VLOOKUP(O207,Raum!$B$1:$E$400,4,TRUE),\"\")","v":""}]
[null,"Gruppe",null,{"$f":"IFERROR(VLOOKUP(C208,Lehrer!$C$1:$N$100,9,TRUE),\"\")","v":""},null,{"$f":"IFERROR(VLOOKUP(E208,Gegenstand!$B$1:$E$400,4,TRUE),\"\")","v":""},"","",null,null,null,null,null,null,null,{"$f":"IFERROR(VLOOKUP(O208,Raum!$B$1:$E$400,4,TRUE),\"\")","v":""}]
[null,"Gruppe",null,{"$f":"IFERROR(VLOOKUP(C209,Lehrer!$C$1:$N$100,9,TRUE),\"\")","v":""},null,{"$f":"IFERROR(VLOOKUP(E209,Gegenstand!$B$1:$E$400,4,TRUE),\"\")","v":""},"","",null,null,null,null,null,null,null,{"$f":"IFERROR(VLOOKUP(O209,Raum!$B$1:$E$400,4,TRUE),\"\")","v":""}]
[null,"Gruppe",null,{"$f":"IFERROR(VLOOKUP(C210,Lehrer!$C$1:$N$100,9,TRUE),\"\")","v":""},null,{"$f":"IFERROR(VLOOKUP(E210,Gegenstand!$B$1:$E$400,4,TRUE),\"\")","v":""},"","",null,null,null,null,null,null,null,{"$f":"IFERROR(VLOOKUP(O210,Raum!$B$1:$E$400,4,TRUE),\"\")","v":""}]
[null,"Gruppe",null,{"$f":"IFERROR(VLOOKUP(C211,Lehrer!$C$1:$N$100,9,TRUE),\"\")","v":""},null,{"$f":"IFERROR(VLOOKUP(E211,Gegenstand!$B$1:$E$400,4,TRUE),\"\")","v":""},"","",null,null,null,null,null,null,null,{"$f":"IFERROR(VLOOKUP(O211,Raum!$B$1:$E$400,4,TRUE),\"\")","v":""}]
[null,"Gruppe",null,{"$f":"IFERROR(VLOOKUP(C212,Lehrer!$C$1:$N$100,9,TRUE),\"\")","v":""},null,{"$f":"IFERROR(VLOOKUP(E212,Gegenstand!$B$1:$E$400,4,TRUE),\"\")","v":""},"","",null,null,null,null,null,null,null,{"$f":"IFERROR(VLOOKUP(O212,Raum!$B$1:$E$400,4,TRUE),\"\")","v":""}]
[null,"Gruppe",null,{"$f":"IFERROR(VLOOKUP(C213,Lehrer!$C$1:$N$100,9,TRUE),\"\")","v":""},null,{"$f":"IFERROR(VLOOKUP(E213,Gegenstand!$B$1:$E$400,4,TRUE),\"\")","v":""},"","",null,null,null,null,null,null,null,{"$f":"IFERROR(VLOOKUP(O213,Raum!$B$1:$E$400,4,TRUE),\"\")","v":""}]
[null,"Gruppe",null,{"$f":"IFERROR(VLOOKUP(C214,Lehrer!$C$1:$N$100,9,TRUE),\"\")","v":""},null,{"$f":"IFERROR(VLOOKUP(E214,Gegenstand!$B$1:$E$400,4,TRUE),\"\")","v":""},"","",null,null,null,null,null,null,null,{"$f":"IFERROR(VLOOKUP(O214,Raum!$B$1:$E$400,4,TRUE),\"\")","v":""}]
[null,"Gruppe",null,{"$f":"IFERROR(VLOOKUP(C215,Lehrer!$C$1:$N$100,9,TRUE),\"\")","v":""},null,{"$f":"IFERROR(VLOOKUP(E215,Gegenstand!$B$1:$E$400,4,TRUE),\"\")","v":""},"","",null,null,null,null,null,null,null,{"$f":"IFERROR(VLOOKUP(O215,Raum!$B$1:$E$400,4,TRUE),\"\")","v":""}]
[null,"Gruppe",null,{"$f":"IFERROR(VLOOKUP(C216,Lehrer!$C$1:$N$100,9,TRUE),\"\")","v":""},null,{"$f":"IFERROR(VLOOKUP(E216,Gegenstand!$B$1:$E$400,4,TRUE),\"\")","v":""},"","",null,null,null,null,null,null,null,{"$f":"IFERROR(VLOOKUP(O216,Raum!$B$1:$E$400,4,TRUE),\"\")","v":""}]
[null,"Gruppe",null,{"$f":"IFERROR(VLOOKUP(C217,Lehrer!$C$1:$N$100,9,TRUE),\"\")","v":""},null,{"$f":"IFERROR(VLOOKUP(E217,Gegenstand!$B$1:$E$400,4,TRUE),\"\")","v":""},"","",null,null,null,null,null,null,null,{"$f":"IFERROR(VLOOKUP(O217,Raum!$B$1:$E$400,4,TRUE),\"\")","v":""}]
[null,"Gruppe",null,{"$f":"IFERROR(VLOOKUP(C218,Lehrer!$C$1:$N$100,9,TRUE),\"\")","v":""},null,{"$f":"IFERROR(VLOOKUP(E218,Gegenstand!$B$1:$E$400,4,TRUE),\"\")","v":""},"","",null,null,null,null,null,null,null,{"$f":"IFERROR(VLOOKUP(O218,Raum!$B$1:$E$400,4,TRUE),\"\")","v":""}]
[null,"Gruppe",null,{"$f":"IFERROR(VLOOKUP(C219,Lehrer!$C$1:$N$100,9,TRUE),\"\")","v":""},null,{"$f":"IFERROR(VLOOKUP(E219,Gegenstand!$B$1:$E$400,4,TRUE),\"\")","v":""},"","",null,null,null,null,null,null,null,{"$f":"IFERROR(VLOOKUP(O219,Raum!$B$1:$E$400,4,TRUE),\"\")","v":""}]
[null,"Gruppe",null,{"$f":"IFERROR(VLOOKUP(C220,Lehrer!$C$1:$N$100,9,TRUE),\"\")","v":""},null,{"$f":"IFERROR(VLOOKUP(E220,Gegenstand!$B$1:$E$400,4,TRUE),\"\")","v":""},"","",null,null,null,null,null,null,null,{"$f":"IFERROR(VLOOKUP(O220,Raum!$B$1:$E$400,4,TRUE),\"\")","v":""}]
[null,"Gruppe",null,{"$f":"IFERROR(VLOOKUP(C221,Lehrer!$C$1:$N$100,9,TRUE),\"\")","v":""},null,{"$f":"IFERROR(VLOOKUP(E221,Gegenstand!$B$1:$E$400,4,TRUE),\"\")","v":""},"","",null,null,null,null,null,null,null,{"$f":"IFERROR(VLOOKUP(O221,Raum!$B$1:$E$400,4,TRUE),\"\")","v":""}]
[null,"Gruppe",null,{"$f":"IFERROR(VLOOKUP(C222,Lehrer!$C$1:$N$100,9,TRUE),\"\")","v":""},null,{"$f":"IFERROR(VLOOKUP(E222,Gegenstand!$B$1:$E$400,4,TRUE),\"\")","v":""},"","",null,null,null,null,null,null,null,{"$f":"IFERROR(VLOOKUP(O222,Raum!$B$1:$E$400,4,TRUE),\"\")","v":""}]
[null,"Gruppe",null,{"$f":"IFERROR(VLOOKUP(C223,Lehrer!$C$1:$N$100,9,TRUE),\"\")","v":""},null,{"$f":"IFERROR(VLOOKUP(E223,Gegenstand!$B$1:$E$400,4,TRUE),\"\")","v":""},"","",null,null,null,null,null,null,null,{"$f":"IFERROR(VLOOKUP(O223,Raum!$B$1:$E$400,4,TRUE),\"\")","v":""}]
[null,"Gruppe",null,{"$f":"IFERROR(VLOOKUP(C224,Lehrer!$C$1:$N$100,9,TRUE),\"\")","v":""},null,{"$f":"IFERROR(VLOOKUP(E224,Gegenstand!$B$1:$E$400,4,TRUE),\"\")","v":""},"","",null,null,null,null,null,null,null,{"$f":"IFERROR(VLOOKUP(O224,Raum!$B$1:$E$400,4,TRUE),\"\")","v":""}]
[null,"Gruppe",null,{"$f":"IFERROR(VLOOKUP(C225,Lehrer!$C$1:$N$100,9,TRUE),\"\")","v":""},null,{"$f":"IFERROR(VLOOKUP(E225,Gegenstand!$B$1:$E$400,4,TRUE),\"\")","v":""},"","",null,null,null,null,null,null,null,{"$f":"IFERROR(VLOOKUP(O225,Raum!$B$1:$E$400,4,TRUE),\"\")","v":""}]
[null,"Gruppe",null,{"$f":"IFERROR(VLOOKUP(C226,Lehrer!$C$1:$N$100,9,TRUE),\"\")","v":""},null,{"$f":"IFERROR(VLOOKUP(E226,Gegenstand!$B$1:$E$400,4,TRUE),\"\")","v":""},"","",null,null,null,null,null,null,null,{"$f":"IFERROR(VLOOKUP(O226,Raum!$B$1:$E$400,4,TRUE),\"\")","v":""}]
[null,"Gruppe",null,{"$f":"IFERROR(VLOOKUP(C227,Lehrer!$C$1:$N$100,9,TRUE),\"\")","v":""},null,{"$f":"IFERROR(VLOOKUP(E227,Gegenstand!$B$1:$E$400,4,TRUE),\"\")","v":""},"","",null,null,null,null,null,null,null,{"$f":"IFERROR(VLOOKUP(O227,Raum!$B$1:$E$400,4,TRUE),\"\")","v":""}]
[null,"Gruppe",null,{"$f":"IFERROR(VLOOKUP(C228,Lehrer!$C$1:$N$100,9,TRUE),\"\")","v":""},null,{"$f":"IFERROR(VLOOKUP(E228,Gegenstand!$B$1:$E$400,4,TRUE),\"\")","v":""},"","",null,null,null,null,null,null,null,{"$f":"IFERROR(VLOOKUP(O228,Raum!$B$1:$E$400,4,TRUE),\"\")","v":""}]
[null,"Gruppe",null,{"$f":"IFERROR(VLOOKUP(C229,Lehrer!$C$1:$N$100,9,TRUE),\"\")","v":""},null,{"$f":"IFERROR(VLOOKUP(E229,Gegenstand!$B$1:$E$400,4,TRUE),\"\")","v":""},"","",null,null,null,null,null,null,null,{"$f":"IFERROR(VLOOKUP(O229,Raum!$B$1:$E$400,4,TRUE),\"\")","v":""}]
[null,"Gruppe",null,{"$f":"IFERROR(VLOOKUP(C230,Lehrer!$C$1:$N$100,9,TRUE),\"\")","v":""},null,{"$f":"IFERROR(VLOOKUP(E230,Gegenstand!$B$1:$E$400,4,TRUE),\"\")","v":""},"","",null,null,null,null,null,null,null,{"$f":"IFERROR(VLOOKUP(O230,Raum!$B$1:$E$400,4,TRUE),\"\")","v":""}]
[null,"Gruppe",null,{"$f":"IFERROR(VLOOKUP(C231,Lehrer!$C$1:$N$100,9,TRUE),\"\")","v":""},null,{"$f":"IFERROR(VLOOKUP(E231,Gegenstand!$B$1:$E$400,4,TRUE),\"\")","v":""},"","",null,null,null,null,null,null,null,{"$f":"IFERROR(VLOOKUP(O231,Raum!$B$1:$E$400,4,TRUE),\"\")","v":""}]
[null,"Gruppe",null,{"$f":"IFERROR(VLOOKUP(C232,Lehrer!$C$1:$N$100,9,TRUE),\"\")","v":""},null,{"$f":"IFERROR(VLOOKUP(E232,Gegenstand!$B$1:$E$400,4,TRUE),\"\")","v":""},"","",null,null,null,null,null,null,null,{"$f":"IFERROR(VLOOKUP(O232,Raum!$B$1:$E$400,4,TRUE),\"\")","v":""}]
[null,"Gruppe",null,{"$f":"IFERROR(VLOOKUP(C233,Lehrer!$C$1:$N$100,9,TRUE),\"\")","v":""},null,{"$f":"IFERROR(VLOOKUP(E233,Gegenstand!$B$1:$E$400,4,TRUE),\"\")","v":""},"","",null,null,null,null,null,null,null,{"$f":"IFERROR(VLOOKUP(O233,Raum!$B$1:$E$400,4,TRUE),\"\")","v":""}]
[null,"Gruppe",null,{"$f":"IFERROR(VLOOKUP(C234,Lehrer!$C$1:$N$100,9,TRUE),\"\")","v":""},null,{"$f":"IFERROR(VLOOKUP(E234,Gegenstand!$B$1:$E$400,4,TRUE),\"\")","v":""},"","",null,null,null,null,null,null,null,{"$f":"IFERROR(VLOOKUP(O234,Raum!$B$1:$E$400,4,TRUE),\"\")","v":""}]
[null,"Gruppe",null,{"$f":"IFERROR(VLOOKUP(C235,Lehrer!$C$1:$N$100,9,TRUE),\"\")","v":""},null,{"$f":"IFERROR(VLOOKUP(E235,Gegenstand!$B$1:$E$400,4,TRUE),\"\")","v":""},"","",null,null,null,null,null,null,null,{"$f":"IFERROR(VLOOKUP(O235,Raum!$B$1:$E$400,4,TRUE),\"\")","v":""}]
[null,"Gruppe",null,{"$f":"IFERROR(VLOOKUP(C236,Lehrer!$C$1:$N$100,9,TRUE),\"\")","v":""},null,{"$f":"IFERROR(VLOOKUP(E236,Gegenstand!$B$1:$E$400,4,TRUE),\"\")","v":""},"","",null,null,null,null,null,null,null,{"$f":"IFERROR(VLOOKUP(O236,Raum!$B$1:$E$400,4,TRUE),\"\")","v":""}]
[null,"Gruppe",null,{"$f":"IFERROR(VLOOKUP(C237,Lehrer!$C$1:$N$100,9,TRUE),\"\")","v":""},null,{"$f":"IFERROR(VLOOKUP(E237,Gegenstand!$B$1:$E$400,4,TRUE),\"\")","v":""},"","",null,null,null,null,null,null,null,{"$f":"IFERROR(VLOOKUP(O237,Raum!$B$1:$E$400,4,TRUE),\"\")","v":""}]
[null,"Gruppe",null,{"$f":"IFERROR(VLOOKUP(C238,Lehrer!$C$1:$N$100,9,TRUE),\"\")","v":""},null,{"$f":"IFERROR(VLOOKUP(E238,Gegenstand!$B$1:$E$400,4,TRUE),\"\")","v":""},"","",null,null,null,null,null,null,null,{"$f":"IFERROR(VLOOKUP(O238,Raum!$B$1:$E$400,4,TRUE),\"\")","v":""}]
[null,"Gruppe",null,{"$f":"IFERROR(VLOOKUP(C239,Lehrer!$C$1:$N$100,9,TRUE),\"\")","v":""},null,{"$f":"IFERROR(VLOOKUP(E239,Gegenstand!$B$1:$E$400,4,TRUE),\"\")","v":""},"","",null,null,null,null,null,null,null,{"$f":"IFERROR(VLOOKUP(O239,Raum!$B$1:$E$400,4,TRUE),\"\")","v":""}]
[null,"Gruppe",null,{"$f":"IFERROR(VLOOKUP(C240,Lehrer!$C$1:$N$100,9,TRUE),\"\")","v":""},null,{"$f":"IFERROR(VLOOKUP(E240,Gegenstand!$B$1:$E$400,4,TRUE),\"\")","v":""},"","",null,null,null,null,null,null,null,{"$f":"IFERROR(VLOOKUP(O240,Raum!$B$1:$E$400,4,TRUE),\"\")","v":""}]
[null,"Gruppe",null,{"$f":"IFERROR(VLOOKUP(C241,Lehrer!$C$1:$N$100,9,TRUE),\"\")","v":""},null,{"$f":"IFERROR(VLOOKUP(E241,Gegenstand!$B$1:$E$400,4,TRUE),\"\")","v":""},"","",null,null,null,null,null,null,null,{"$f":"IFERROR(VLOOKUP(O241,Raum!$B$1:$E$400,4,TRUE),\"\")","v":""}]
[null,"Gruppe",null,{"$f":"IFERROR(VLOOKUP(C242,Lehrer!$C$1:$N$100,9,TRUE),\"\")","v":""},null,{"$f":"IFERROR(VLOOKUP(E242,Gegenstand!$B$1:$E$400,4,TRUE),\"\")","v":""},"","",null,null,null,null,null,null,null,{"$f":"IFERROR(VLOOKUP(O242,Raum!$B$1:$E$400,4,TRUE),\"\")","v":""}]
[null,"Gruppe",null,{"$f":"IFERROR(VLOOKUP(C243,Lehrer!$C$1:$N$100,9,TRUE),\"\")","v":""},null,{"$f":"IFERROR(VLOOKUP(E243,Gegenstand!$B$1:$E$400,4,TRUE),\"\")","v":""},"","",null,null,null,null,null,null,null,{"$f":"IFERROR(VLOOKUP(O243,Raum!$B$1:$E$400,4,TRUE),\"\")","v":""}]
[null,"Gruppe",null,{"$f":"IFERROR(VLOOKUP(C244,Lehrer!$C$1:$N$100,9,TRUE),\"\")","v":""},null,{"$f":"IFERROR(VLOOKUP(E244,Gegenstand!$B$1:$E$400,4,TRUE),\"\")","v":""},"","",null,null,null,null,null,null,null,{"$f":"IFERROR(VLOOKUP(O244,Raum!$B$1:$E$400,4,TRUE),\"\")","v":""}]
[null,"Gruppe",null,{"$f":"IFERROR(VLOOKUP(C245,Lehrer!$C$1:$N$100,9,TRUE),\"\")","v":""},null,{"$f":"IFERROR(VLOOKUP(E245,Gegenstand!$B$1:$E$400,4,TRUE),\"\")","v":""},"","",null,null,null,null,null,null,null,{"$f":"IFERROR(VLOOKUP(O245,Raum!$B$1:$E$400,4,TRUE),\"\")","v":""}]
[null,"Gruppe",null,{"$f":"IFERROR(VLOOKUP(C246,Lehrer!$C$1:$N$100,9,TRUE),\"\")","v":""},null,{"$f":"IFERROR(VLOOKUP(E246,Gegenstand!$B$1:$E$400,4,TRUE),\"\")","v":""},"","",null,null,null,null,null,null,null,{"$f":"IFERROR(VLOOKUP(O246,Raum!$B$1:$E$400,4,TRUE),\"\")","v":""}]
[null,"Gruppe",null,{"$f":"IFERROR(VLOOKUP(C247,Lehrer!$C$1:$N$100,9,TRUE),\"\")","v":""},null,{"$f":"IFERROR(VLOOKUP(E247,Gegenstand!$B$1:$E$400,4,TRUE),\"\")","v":""},"","",null,null,null,null,null,null,null,{"$f":"IFERROR(VLOOKUP(O247,Raum!$B$1:$E$400,4,TRUE),\"\")","v":""}]
[null,"Gruppe",null,{"$f":"IFERROR(VLOOKUP(C248,Lehrer!$C$1:$N$100,9,TRUE),\"\")","v":""},null,{"$f":"IFERROR(VLOOKUP(E248,Gegenstand!$B$1:$E$400,4,TRUE),\"\")","v":""},"","",null,null,null,null,null,null,null,{"$f":"IFERROR(VLOOKUP(O248,Raum!$B$1:$E$400,4,TRUE),\"\")","v":""}]
[null,"Gruppe",null,{"$f":"IFERROR(VLOOKUP(C249,Lehrer!$C$1:$N$100,9,TRUE),\"\")","v":""},null,{"$f":"IFERROR(VLOOKUP(E249,Gegenstand!$B$1:$E$400,4,TRUE),\"\")","v":""},"","",null,null,null,null,null,null,null,{"$f":"IFERROR(VLOOKUP(O249,Raum!$B$1:$E$400,4,TRUE),\"\")","v":""}]
[null,"Gruppe",null,{"$f":"IFERROR(VLOOKUP(C250,Lehrer!$C$1:$N$100,9,TRUE),\"\")","v":""},null,{"$f":"IFERROR(VLOOKUP(E250,Gegenstand!$B$1:$E$400,4,TRUE),\"\")","v":""},"","",null,null,null,null,null,null,null,{"$f":"IFERROR(VLOOKUP(O250,Raum!$B$1:$E$400,4,TRUE),\"\")","v":""}]
[null,"Gruppe",null,{"$f":"IFERROR(VLOOKUP(C251,Lehrer!$C$1:$N$100,9,TRUE),\"\")","v":""},null,{"$f":"IFERROR(VLOOKUP(E251,Gegenstand!$B$1:$E$400,4,TRUE),\"\")","v":""},"","",null,null,null,null,null,null,null,{"$f":"IFERROR(VLOOKUP(O251,Raum!$B$1:$E$400,4,TRUE),\"\")","v":""}]
[null,"Gruppe",null,{"$f":"IFERROR(VLOOKUP(C252,Lehrer!$C$1:$N$100,9,TRUE),\"\")","v":""},null,{"$f":"IFERROR(VLOOKUP(E252,Gegenstand!$B$1:$E$400,4,TRUE),\"\")","v":""},"","",null,null,null,null,null,null,null,{"$f":"IFERROR(VLOOKUP(O252,Raum!$B$1:$E$400,4,TRUE),\"\")","v":""}]
[null,"Gruppe",null,{"$f":"IFERROR(VLOOKUP(C253,Lehrer!$C$1:$N$100,9,TRUE),\"\")","v":""},null,{"$f":"IFERROR(VLOOKUP(E253,Gegenstand!$B$1:$E$400,4,TRUE),\"\")","v":""},"","",null,null,null,null,null,null,null,{"$f":"IFERROR(VLOOKUP(O253,Raum!$B$1:$E$400,4,TRUE),\"\")","v":""}]
[null,"Gruppe",null,{"$f":"IFERROR(VLOOKUP(C254,Lehrer!$C$1:$N$100,9,TRUE),\"\")","v":""},null,{"$f":"IFERROR(VLOOKUP(E254,Gegenstand!$B$1:$E$400,4,TRUE),\"\")","v":""},"","",null,null,null,null,null,null,null,{"$f":"IFERROR(VLOOKUP(O254,Raum!$B$1:$E$400,4,TRUE),\"\")","v":""}]
[null,"Gruppe",null,{"$f":"IFERROR(VLOOKUP(C255,Lehrer!$C$1:$N$100,9,TRUE),\"\")","v":""},null,{"$f":"IFERROR(VLOOKUP(E255,Gegenstand!$B$1:$E$400,4,TRUE),\"\")","v":""},"","",null,null,null,null,null,null,null,{"$f":"IFERROR(VLOOKUP(O255,Raum!$B$1:$E$400,4,TRUE),\"\")","v":""}]
[null,"Gruppe",null,{"$f":"IFERROR(VLOOKUP(C256,Lehrer!$C$1:$N$100,9,TRUE),\"\")","v":""},null,{"$f":"IFERROR(VLOOKUP(E256,Gegenstand!$B$1:$E$400,4,TRUE),\"\")","v":""},"","",null,null,null,null,null,null,null,{"$f":"IFERROR(VLOOKUP(O256,Raum!$B$1:$E$400,4,TRUE),\"\")","v":""}]
[null,"Gruppe",null,{"$f":"IFERROR(VLOOKUP(C257,Lehrer!$C$1:$N$100,9,TRUE),\"\")","v":""},null,{"$f":"IFERROR(VLOOKUP(E257,Gegenstand!$B$1:$E$400,4,TRUE),\"\")","v":""},"","",null,null,null,null,null,null,null,{"$f":"IFERROR(VLOOKUP(O257,Raum!$B$1:$E$400,4,TRUE),\"\")","v":""}]
[null,"Gruppe",null,{"$f":"IFERROR(VLOOKUP(C258,Lehrer!$C$1:$N$100,9,TRUE),\"\")","v":""},null,{"$f":"IFERROR(VLOOKUP(E258,Gegenstand!$B$1:$E$400,4,TRUE),\"\")","v":""},"","",null,null,null,null,null,null,null,{"$f":"IFERROR(VLOOKUP(O258,Raum!$B$1:$E$400,4,TRUE),\"\")","v":""}]
[null,"Gruppe",null,{"$f":"IFERROR(VLOOKUP(C259,Lehrer!$C$1:$N$100,9,TRUE),\"\")","v":""},null,{"$f":"IFERROR(VLOOKUP(E259,Gegenstand!$B$1:$E$400,4,TRUE),\"\")","v":""},"","",null,null,null,null,null,null,null,{"$f":"IFERROR(VLOOKUP(O259,Raum!$B$1:$E$400,4,TRUE),\"\")","v":""}]
[null,"Gruppe",null,{"$f":"IFERROR(VLOOKUP(C260,Lehrer!$C$1:$N$100,9,TRUE),\"\")","v":""},null,{"$f":"IFERROR(VLOOKUP(E260,Gegenstand!$B$1:$E$400,4,TRUE),\"\")","v":""},{"$f":"IFERROR(LEFT(F260,FIND(\"#\",F260)-1),\"\")","v":""},{"$f":"IFERROR(RIGHT(F260,LEN(F260)-FIND(\"#\",F260)),\"\")","v":""},null,null,null,null,null,null,null,{"$f":"IFERROR(VLOOKUP(O260,Raum!$B$1:$E$400,4,TRUE),\"\")","v":""}]
[null,"Gruppe",null,{"$f":"IFERROR(VLOOKUP(C261,Lehrer!$C$1:$N$100,9,TRUE),\"\")","v":""},null,{"$f":"IFERROR(VLOOKUP(E261,Gegenstand!$B$1:$E$400,4,TRUE),\"\")","v":""},"","",null,null,null,null,null,null,null,{"$f":"IFERROR(VLOOKUP(O261,Raum!$B$1:$E$400,4,TRUE),\"\")","v":""}]
[null,"Gruppe",null,{"$f":"IFERROR(VLOOKUP(C262,Lehrer!$C$1:$N$100,9,TRUE),\"\")","v":""},null,{"$f":"IFERROR(VLOOKUP(E262,Gegenstand!$B$1:$E$400,4,TRUE),\"\")","v":""},"","",null,null,null,null,null,null,null,{"$f":"IFERROR(VLOOKUP(O262,Raum!$B$1:$E$400,4,TRUE),\"\")","v":""}]
[null,"Gruppe",null,{"$f":"IFERROR(VLOOKUP(C263,Lehrer!$C$1:$N$100,9,TRUE),\"\")","v":""},null,{"$f":"IFERROR(VLOOKUP(E263,Gegenstand!$B$1:$E$400,4,TRUE),\"\")","v":""},"","",null,null,null,null,null,null,null,{"$f":"IFERROR(VLOOKUP(O263,Raum!$B$1:$E$400,4,TRUE),\"\")","v":""}]
[null,"Gruppe",null,{"$f":"IFERROR(VLOOKUP(C264,Lehrer!$C$1:$N$100,9,TRUE),\"\")","v":""},null,{"$f":"IFERROR(VLOOKUP(E264,Gegenstand!$B$1:$E$400,4,TRUE),\"\")","v":""},"","",null,null,null,null,null,null,null,{"$f":"IFERROR(VLOOKUP(O264,Raum!$B$1:$E$400,4,TRUE),\"\")","v":""}]
[null,"Gruppe",null,{"$f":"IFERROR(VLOOKUP(C265,Lehrer!$C$1:$N$100,9,TRUE),\"\")","v":""},null,{"$f":"IFERROR(VLOOKUP(E265,Gegenstand!$B$1:$E$400,4,TRUE),\"\")","v":""},"","",null,null,null,null,null,null,null,{"$f":"IFERROR(VLOOKUP(O265,Raum!$B$1:$E$400,4,TRUE),\"\")","v":""}]
[null,"Gruppe",null,{"$f":"IFERROR(VLOOKUP(C266,Lehrer!$C$1:$N$100,9,TRUE),\"\")","v":""},null,{"$f":"IFERROR(VLOOKUP(E266,Gegenstand!$B$1:$E$400,4,TRUE),\"\")","v":""},"","",null,null,null,null,null,null,null,{"$f":"IFERROR(VLOOKUP(O266,Raum!$B$1:$E$400,4,TRUE),\"\")","v":""}]
[null,"Gruppe",null,{"$f":"IFERROR(VLOOKUP(C267,Lehrer!$C$1:$N$100,9,TRUE),\"\")","v":""},null,{"$f":"IFERROR(VLOOKUP(E267,Gegenstand!$B$1:$E$400,4,TRUE),\"\")","v":""},"","",null,null,null,null,null,null,null,{"$f":"IFERROR(VLOOKUP(O267,Raum!$B$1:$E$400,4,TRUE),\"\")","v":""}]
[null,"Gruppe",null,{"$f":"IFERROR(VLOOKUP(C268,Lehrer!$C$1:$N$100,9,TRUE),\"\")","v":""},null,{"$f":"IFERROR(VLOOKUP(E268,Gegenstand!$B$1:$E$400,4,TRUE),\"\")","v":""},"","",null,null,null,null,null,null,null,{"$f":"IFERROR(VLOOKUP(O268,Raum!$B$1:$E$400,4,TRUE),\"\")","v":""}]
[null,"Gruppe",null,{"$f":"IFERROR(VLOOKUP(C269,Lehrer!$C$1:$N$100,9,TRUE),\"\")","v":""},null,{"$f":"IFERROR(VLOOKUP(E269,Gegenstand!$B$1:$E$400,4,TRUE),\"\")","v":""},"","",null,null,null,null,null,null,null,{"$f":"IFERROR(VLOOKUP(O269,Raum!$B$1:$E$400,4,TRUE),\"\")","v":""}]
[null,"Gruppe",null,{"$f":"IFERROR(VLOOKUP(C270,Lehrer!$C$1:$N$100,9,TRUE),\"\")","v":""},null,{"$f":"IFERROR(VLOOKUP(E270,Gegenstand!$B$1:$E$400,4,TRUE),\"\")","v":""},"","",null,null,null,null,null,null,null,{"$f":"IFERROR(VLOOKUP(O270,Raum!$B$1:$E$400,4,TRUE),\"\")","v":""}]
[null,"Gruppe",null,{"$f":"IFERROR(VLOOKUP(C271,Lehrer!$C$1:$N$100,9,TRUE),\"\")","v":""},null,{"$f":"IFERROR(VLOOKUP(E271,Gegenstand!$B$1:$E$400,4,TRUE),\"\")","v":""},"","",null,null,null,null,null,null,null,{"$f":"IFERROR(VLOOKUP(O271,Raum!$B$1:$E$400,4,TRUE),\"\")","v":""}]
[null,"Gruppe",null,{"$f":"IFERROR(VLOOKUP(C272,Lehrer!$C$1:$N$100,9,TRUE),\"\")","v":""},null,{"$f":"IFERROR(VLOOKUP(E272,Gegenstand!$B$1:$E$400,4,TRUE),\"\")","v":""},"","",null,null,null,null,null,null,null,{"$f":"IFERROR(VLOOKUP(O272,Raum!$B$1:$E$400,4,TRUE),\"\")","v":""}]
[null,"Gruppe",null,{"$f":"IFERROR(VLOOKUP(C273,Lehrer!$C$1:$N$100,9,TRUE),\"\")","v":""},null,{"$f":"IFERROR(VLOOKUP(E273,Gegenstand!$B$1:$E$400,4,TRUE),\"\")","v":""},"","",null,null,null,null,null,null,null,{"$f":"IFERROR(VLOOKUP(O273,Raum!$B$1:$E$400,4,TRUE),\"\")","v":""}]
[null,"Gruppe",null,{"$f":"IFERROR(VLOOKUP(C274,Lehrer!$C$1:$N$100,9,TRUE),\"\")","v":""},null,{"$f":"IFERROR(VLOOKUP(E274,Gegenstand!$B$1:$E$400,4,TRUE),\"\")","v":""},"","",null,null,null,null,null,null,null,{"$f":"IFERROR(VLOOKUP(O274,Raum!$B$1:$E$400,4,TRUE),\"\")","v":""}]
[null,"Gruppe",null,{"$f":"IFERROR(VLOOKUP(C275,Lehrer!$C$1:$N$100,9,TRUE),\"\")","v":""},null,{"$f":"IFERROR(VLOOKUP(E275,Gegenstand!$B$1:$E$400,4,TRUE),\"\")","v":""},"","",null,null,null,null,null,null,null,{"$f":"IFERROR(VLOOKUP(O275,Raum!$B$1:$E$400,4,TRUE),\"\")","v":""}]
[null,"Gruppe",null,{"$f":"IFERROR(VLOOKUP(C276,Lehrer!$C$1:$N$100,9,TRUE),\"\")","v":""},null,{"$f":"IFERROR(VLOOKUP(E276,Gegenstand!$B$1:$E$400,4,TRUE),\"\")","v":""},"","",null,null,null,null,null,null,null,{"$f":"IFERROR(VLOOKUP(O276,Raum!$B$1:$E$400,4,TRUE),\"\")","v":""}]
[null,"Gruppe",null,{"$f":"IFERROR(VLOOKUP(C277,Lehrer!$C$1:$N$100,9,TRUE),\"\")","v":""},null,{"$f":"IFERROR(VLOOKUP(E277,Gegenstand!$B$1:$E$400,4,TRUE),\"\")","v":""},"","",null,null,null,null,null,null,null,{"$f":"IFERROR(VLOOKUP(O277,Raum!$B$1:$E$400,4,TRUE),\"\")","v":""}]
[null,"Gruppe",null,{"$f":"IFERROR(VLOOKUP(C278,Lehrer!$C$1:$N$100,9,TRUE),\"\")","v":""},null,{"$f":"IFERROR(VLOOKUP(E278,Gegenstand!$B$1:$E$400,4,TRUE),\"\")","v":""},"","",null,null,null,null,null,null,null,{"$f":"IFERROR(VLOOKUP(O278,Raum!$B$1:$E$400,4,TRUE),\"\")","v":""}]
[null,"Gruppe",null,{"$f":"IFERROR(VLOOKUP(C279,Lehrer!$C$1:$N$100,9,TRUE),\"\")","v":""},null,{"$f":"IFERROR(VLOOKUP(E279,Gegenstand!$B$1:$E$400,4,TRUE),\"\")","v":""},"","",null,null,null,null,null,null,null,{"$f":"IFERROR(VLOOKUP(O279,Raum!$B$1:$E$400,4,TRUE),\"\")","v":""}]
[null,"Gruppe",null,{"$f":"IFERROR(VLOOKUP(C280,Lehrer!$C$1:$N$100,9,TRUE),\"\")","v":""},null,{"$f":"IFERROR(VLOOKUP(E280,Gegenstand!$B$1:$E$400,4,TRUE),\"\")","v":""},"","",null,null,null,null,null,null,null,{"$f":"IFERROR(VLOOKUP(O280,Raum!$B$1:$E$400,4,TRUE),\"\")","v":""}]
[null,"Gruppe",null,{"$f":"IFERROR(VLOOKUP(C281,Lehrer!$C$1:$N$100,9,TRUE),\"\")","v":""},null,{"$f":"IFERROR(VLOOKUP(E281,Gegenstand!$B$1:$E$400,4,TRUE),\"\")","v":""},"","",null,null,null,null,null,null,null,{"$f":"IFERROR(VLOOKUP(O281,Raum!$B$1:$E$400,4,TRUE),\"\")","v":""}]
[null,"Gruppe",null,{"$f":"IFERROR(VLOOKUP(C282,Lehrer!$C$1:$N$100,9,TRUE),\"\")","v":""},null,{"$f":"IFERROR(VLOOKUP(E282,Gegenstand!$B$1:$E$400,4,TRUE),\"\")","v":""},"","",null,null,null,null,null,null,null,{"$f":"IFERROR(VLOOKUP(O282,Raum!$B$1:$E$400,4,TRUE),\"\")","v":""}]
[null,"Gruppe",null,{"$f":"IFERROR(VLOOKUP(C283,Lehrer!$C$1:$N$100,9,TRUE),\"\")","v":""},null,{"$f":"IFERROR(VLOOKUP(E283,Gegenstand!$B$1:$E$400,4,TRUE),\"\")","v":""},"","",null,null,null,null,null,null,null,{"$f":"IFERROR(VLOOKUP(O283,Raum!$B$1:$E$400,4,TRUE),\"\")","v":""}]
[null,"Gruppe",null,{"$f":"IFERROR(VLOOKUP(C284,Lehrer!$C$1:$N$100,9,TRUE),\"\")","v":""},null,{"$f":"IFERROR(VLOOKUP(E284,Gegenstand!$B$1:$E$400,4,TRUE),\"\")","v":""},"","",null,null,null,null,null,null,null,{"$f":"IFERROR(VLOOKUP(O284,Raum!$B$1:$E$400,4,TRUE),\"\")","v":""}]
[null,"Gruppe",null,{"$f":"IFERROR(VLOOKUP(C285,Lehrer!$C$1:$N$100,9,TRUE),\"\")","v":""},null,{"$f":"IFERROR(VLOOKUP(E285,Gegenstand!$B$1:$E$400,4,TRUE),\"\")","v":""},"","",null,null,null,null,null,null,null,{"$f":"IFERROR(VLOOKUP(O285,Raum!$B$1:$E$400,4,TRUE),\"\")","v":""}]
[null,"Gruppe",null,{"$f":"IFERROR(VLOOKUP(C286,Lehrer!$C$1:$N$100,9,TRUE),\"\")","v":""},null,{"$f":"IFERROR(VLOOKUP(E286,Gegenstand!$B$1:$E$400,4,TRUE),\"\")","v":""},"","",null,null,null,null,null,null,null,{"$f":"IFERROR(VLOOKUP(O286,Raum!$B$1:$E$400,4,TRUE),\"\")","v":""}]
[null,"Gruppe",null,{"$f":"IFERROR(VLOOKUP(C287,Lehrer!$C$1:$N$100,9,TRUE),\"\")","v":""},null,{"$f":"IFERROR(VLOOKUP(E287,Gegenstand!$B$1:$E$400,4,TRUE),\"\")","v":""},"","",null,null,null,null,null,null,null,{"$f":"IFERROR(VLOOKUP(O287,Raum!$B$1:$E$400,4,TRUE),\"\")","v":""}]
[null,"Gruppe",null,{"$f":"IFERROR(VLOOKUP(C288,Lehrer!$C$1:$N$100,9,TRUE),\"\")","v":""},null,{"$f":"IFERROR(VLOOKUP(E288,Gegenstand!$B$1:$E$400,4,TRUE),\"\")","v":""},"","",null,null,null,null,null,null,null,{"$f":"IFERROR(VLOOKUP(O288,Raum!$B$1:$E$400,4,TRUE),\"\")","v":""}]
[null,"Gruppe",null,{"$f":"IFERROR(VLOOKUP(C289,Lehrer!$C$1:$N$100,9,TRUE),\"\")","v":""},null,{"$f":"IFERROR(VLOOKUP(E289,Gegenstand!$B$1:$E$400,4,TRUE),\"\")","v":""},"","",null,null,null,null,null,null,null,{"$f":"IFERROR(VLOOKUP(O289,Raum!$B$1:$E$400,4,TRUE),\"\")","v":""}]
[null,"Gruppe",null,{"$f":"IFERROR(VLOOKUP(C290,Lehrer!$C$1:$N$100,9,TRUE),\"\")","v":""},null,{"$f":"IFERROR(VLOOKUP(E290,Gegenstand!$B$1:$E$400,4,TRUE),\"\")","v":""},"","",null,null,null,null,null,null,null,{"$f":"IFERROR(VLOOKUP(O290,Raum!$B$1:$E$400,4,TRUE),\"\")","v":""}]
[null,"Gruppe",null,{"$f":"IFERROR(VLOOKUP(C291,Lehrer!$C$1:$N$100,9,TRUE),\"\")","v":""},null,{"$f":"IFERROR(VLOOKUP(E291,Gegenstand!$B$1:$E$400,4,TRUE),\"\")","v":""},"","",null,null,null,null,null,null,null,{"$f":"IFERROR(VLOOKUP(O291,Raum!$B$1:$E$400,4,TRUE),\"\")","v":""}]
[null,"Gruppe",null,{"$f":"IFERROR(VLOOKUP(C292,Lehrer!$C$1:$N$100,9,TRUE),\"\")","v":""},null,{"$f":"IFERROR(VLOOKUP(E292,Gegenstand!$B$1:$E$400,4,TRUE),\"\")","v":""},"","",null,null,null,null,null,null,null,{"$f":"IFERROR(VLOOKUP(O292,Raum!$B$1:$E$400,4,TRUE),\"\")","v":""}]
[null,"Gruppe",null,{"$f":"IFERROR(VLOOKUP(C293,Lehrer!$C$1:$N$100,9,TRUE),\"\")","v":""},null,{"$f":"IFERROR(VLOOKUP(E293,Gegenstand!$B$1:$E$400,4,TRUE),\"\")","v":""},"","",null,null,null,null,null,null,null,{"$f":"IFERROR(VLOOKUP(O293,Raum!$B$1:$E$400,4,TRUE),\"\")","v":""}]
[null,"Gruppe",null,{"$f":"IFERROR(VLOOKUP(C294,Lehrer!$C$1:$N$100,9,TRUE),\"\")","v":""},null,{"$f":"IFERROR(VLOOKUP(E294,Gegenstand!$B$1:$E$400,4,TRUE),\"\")","v":""},"","",null,null,null,null,null,null,null,{"$f":"IFERROR(VLOOKUP(O294,Raum!$B$1:$E$400,4,TRUE),\"\")","v":""}]
[null,"Gruppe",null,{"$f":"IFERROR(VLOOKUP(C295,Lehrer!$C$1:$N$100,9,TRUE),\"\")","v":""},null,{"$f":"IFERROR(VLOOKUP(E295,Gegenstand!$B$1:$E$400,4,TRUE),\"\")","v":""},"","",null,null,null,null,null,null,null,{"$f":"IFERROR(VLOOKUP(O295,Raum!$B$1:$E$400,4,TRUE),\"\")","v":""}]
[null,"Gruppe",null,{"$f":"IFERROR(VLOOKUP(C296,Lehrer!$C$1:$N$100,9,TRUE),\"\")","v":""},null,{"$f":"IFERROR(VLOOKUP(E296,Gegenstand!$B$1:$E$400,4,TRUE),\"\")","v":""},"","",null,null,null,null,null,null,null,{"$f":"IFERROR(VLOOKUP(O296,Raum!$B$1:$E$400,4,TRUE),\"\")","v":""}]
[null,"Gruppe",null,{"$f":"IFERROR(VLOOKUP(C297,Lehrer!$C$1:$N$100,9,TRUE),\"\")","v":""},null,{"$f":"IFERROR(VLOOKUP(E297,Gegenstand!$B$1:$E$400,4,TRUE),\"\")","v":""},"","",null,null,null,null,null,null,null,{"$f":"IFERROR(VLOOKUP(O297,Raum!$B$1:$E$400,4,TRUE),\"\")","v":""}]
[null,"Gruppe",null,{"$f":"IFERROR(VLOOKUP(C298,Lehrer!$C$1:$N$100,9,TRUE),\"\")","v":""},null,{"$f":"IFERROR(VLOOKUP(E298,Gegenstand!$B$1:$E$400,4,TRUE),\"\")","v":""},"","",null,null,null,null,null,null,null,{"$f":"IFERROR(VLOOKUP(O298,Raum!$B$1:$E$400,4,TRUE),\"\")","v":""}]
[null,"Gruppe",null,{"$f":"IFERROR(VLOOKUP(C299,Lehrer!$C$1:$N$100,9,TRUE),\"\")","v":""},null,{"$f":"IFERROR(VLOOKUP(E299,Gegenstand!$B$1:$E$400,4,TRUE),\"\")","v":""},"","",null,null,null,null,null,null,null,{"$f":"IFERROR(VLOOKUP(O299,Raum!$B$1:$E$400,4,TRUE),\"\")","v":""}]
[null,"Gruppe",null,{"$f":"IFERROR(VLOOKUP(C300,Lehrer!$C$1:$N$100,9,TRUE),\"\")","v":""},null,{"$f":"IFERROR(VLOOKUP(E300,Gegenstand!$B$1:$E$400,4,TRUE),\"\")","v":""},"","",null,null,null,null,null,null,null,{"$f":"IFERROR(VLOOKUP(O300,Raum!$B$1:$E$400,4,TRUE),\"\")","v":""}]
[null,"Gruppe",null,{"$f":"IFERROR(VLOOKUP(C301,Lehrer!$C$1:$N$100,9,TRUE),\"\")","v":""},null,{"$f":"IFERROR(VLOOKUP(E301,Gegenstand!$B$1:$E$400,4,TRUE),\"\")","v":""},"","",null,null,null,null,null,null,null,{"$f":"IFERROR(VLOOKUP(O301,Raum!$B$1:$E$400,4,TRUE),\"\")","v":""}]

{"sheet":"Gegenstand","index":1,"n_rows":0,"n_cols":0,"rows_kept":0,"cut":false,"hidden":true,"merged":[]}

{"sheet":"Klasse","index":2,"n_rows":0,"n_cols":0,"rows_kept":0,"cut":false,"hidden":true,"merged":[]}

{"sheet":"Raum","index":3,"n_rows":6,"n_cols":5,"rows_kept":6,"cut":false,"hidden":true,"merged":[]}
["RM","EDV1","EDV 1",null,1447]
["RM","EDV2","EDV 2",null,1448]
["RM","KREA","Kreativwerkstätte",null,1449]
["RM","KÜ","Küche",null,1450]
["RM","MR","Medienraum",null,1461]
["RM","PS1","Klasse 1",null,1451]

{"sheet":"Lehrer","index":4,"n_rows":12,"n_cols":1,"rows_kept":12,"cut":false,"hidden":true,"merged":[]}
["TE"]
["TE"]
["TE"]
["TE"]
["TE"]
["TE"]
["TE"]
["TE"]
["TE"]
["TE"]
["TE"]
["TE"]

{"sheet":"Datum","index":5,"n_rows":1,"n_cols":2,"rows_kept":1,"cut":false,"hidden":true,"merged":[]}
["12.09.2016","07.07.2017"]